BEGIN:VCALENDAR
VERSION:2.0
PRODID:-//Pôle des conférences - ECPv6.15.20//NONSGML v1.0//EN
CALSCALE:GREGORIAN
METHOD:PUBLISH
X-ORIGINAL-URL:https://poledesconferences.be
X-WR-CALDESC:Évènements pour Pôle des conférences
REFRESH-INTERVAL;VALUE=DURATION:PT1H
X-Robots-Tag:noindex
X-PUBLISHED-TTL:PT1H
BEGIN:VTIMEZONE
TZID:UTC
BEGIN:STANDARD
TZOFFSETFROM:+0000
TZOFFSETTO:+0000
TZNAME:UTC
DTSTART:20240101T000000
END:STANDARD
END:VTIMEZONE
BEGIN:VEVENT
DTSTART;TZID=UTC:20251114T190000
DTEND;TZID=UTC:20251114T220000
DTSTAMP:20260420T194938
CREATED:20251104T153542Z
LAST-MODIFIED:20251104T153542Z
UID:10000095-1763146800-1763157600@poledesconferences.be
SUMMARY:Conférence - repas : de la meule à la table
DESCRIPTION:« Qu’il soit à pâte molle\, persillée\, pressée ou fondue\, le fromage est aujourd’hui omniprésent dans nos assiettes. Mais que sait-on vraiment de son histoire ? Ce repas-conférence vous propose de remonter aux origines de ce produit millénaire\, entre techniques de fabrication\, usages sociaux\, traditions régionales et réinventions contemporaines. Un voyage savoureux à travers les siècles et les terroirs. Cette histoire fondante vous sera contée par l’historien de l’alimentation Pierre Leclercq et le repas historique vous sera mitonné par le chef Alain Crudenair. » \nRendez-vous le 14 novembre 2025 à 19h00 à la Maison de la Presse de Liège. \nTarif : 47€ hors boissons.
URL:https://poledesconferences.be/event/conference-repas-de-la-meule-a-la-table-2/
LOCATION:Maison de la Presse\, Rue Haute Sauvenière 19\, Liège\, Liège\, 4000\, Belgium
CATEGORIES:Activités et loisirs jeune public,Histoire et culture
ATTACH;FMTTYPE=image/jpeg:https://poledesconferences.be/wp-content/uploads/2025/11/th-1024x0-3.fromage_clara_peeters.jpg-1.jpg
END:VEVENT
BEGIN:VEVENT
DTSTART;TZID=UTC:20251114T093000
DTEND;TZID=UTC:20251114T123000
DTSTAMP:20260420T194938
CREATED:20251105T082416Z
LAST-MODIFIED:20251105T082416Z
UID:10000096-1763112600-1763123400@poledesconferences.be
SUMMARY:Comment penser les migrations de demain : le futur des politiques de gouvernance ?
DESCRIPTION:Un cycle de cinq conférences autour des enjeux migratoires de demain est organisé d’octobre à décembre à l’initiative des 8 Centres Régionaux pour l’Intégration de Wallonie en partenariat avec plusieurs universités\, dont l’ULiège. \n« Apports des migrations pour les pays d’accueil\, politiques de gouvernance et avenir des politiques d’asile. Cette demi-journée vise à mettre en lumière les apports positifs des migrations pour les sociétés d’accueil\, et à débattre de nouvelles formes de gouvernance migratoire et d’asile plus adaptées aux enjeux globaux des migrations transnationales et davantage respectueuses des droits humains. Etant entendu que les politiques migratoires actuelles\, nationales et européennes\, envisagées à court terme\, sont largement inadaptées et inadéquates. » \nRendez-vous le 14 novembre 2025 de 9h30 à 12h30 dans la Salle des Professeurs de l’Université de Liège/Centre-Ville.
URL:https://poledesconferences.be/event/comment-penser-les-migrations-de-demain-le-futur-des-politiques-de-gouvernance/
LOCATION:Salle des Professeurs de l’Université de Liège\, Place du XX août 7\, Liège\, Liège\, 4000\, Belgium
CATEGORIES:Economie et politique,Société et sciences humaines
ATTACH;FMTTYPE=image/png:https://poledesconferences.be/wp-content/uploads/2025/11/th-1024x0-image-illustration-colloque.png.png
END:VEVENT
BEGIN:VEVENT
DTSTART;TZID=UTC:20251112T190000
DTEND;TZID=UTC:20251112T220000
DTSTAMP:20260420T194938
CREATED:20251104T153453Z
LAST-MODIFIED:20251104T153453Z
UID:10000094-1762974000-1762984800@poledesconferences.be
SUMMARY:Conférence - repas : de la meule à la table
DESCRIPTION:« Qu’il soit à pâte molle\, persillée\, pressée ou fondue\, le fromage est aujourd’hui omniprésent dans nos assiettes. Mais que sait-on vraiment de son histoire ? Ce repas-conférence vous propose de remonter aux origines de ce produit millénaire\, entre techniques de fabrication\, usages sociaux\, traditions régionales et réinventions contemporaines. Un voyage savoureux à travers les siècles et les terroirs. Cette histoire fondante vous sera contée par l’historien de l’alimentation Pierre Leclercq et le repas historique vous sera mitonné par le chef Alain Crudenair. » \nRendez-vous le 12 novembre 2025 à 19h00 à la Maison de la Presse de Liège. \nTarif : 47€ hors boissons.
URL:https://poledesconferences.be/event/conference-repas-de-la-meule-a-la-table/
LOCATION:Maison de la Presse\, Rue Haute Sauvenière 19\, Liège\, Liège\, 4000\, Belgium
CATEGORIES:Activités et loisirs jeune public,Histoire et culture
ATTACH;FMTTYPE=image/jpeg:https://poledesconferences.be/wp-content/uploads/2025/11/th-1024x0-3.fromage_clara_peeters.jpg-1.jpg
END:VEVENT
BEGIN:VEVENT
DTSTART;TZID=UTC:20251112T183000
DTEND;TZID=UTC:20251112T200000
DTSTAMP:20260420T194938
CREATED:20251104T151740Z
LAST-MODIFIED:20251104T151740Z
UID:10000093-1762972200-1762977600@poledesconferences.be
SUMMARY:Forêts et climat : équilibres fragiles\, enjeux globaux
DESCRIPTION:Cet événement a lieu dans le cadre de la Quinzaine du Climat ULiège organisée du 10 novembre au 21 novembre 2025. \n« Les forêts tropicales\, véritables poumons verts de notre planète\, jouent un rôle essentiel dans la régulation du climat mondial. Pourtant\, elles sont aujourd’hui au coeur de multiples pressions : changements climatiques\, déforestation\, exploitation économique… Quels sont les liens complexes entre écosystèmes et notre climat ? Quelles menaces pèsent sur elles ? Et surtout\, quelles solutions pouvons-nous envisager ? \nConcrètement\, la conférence s’ouvrira sur une analyse des changements climatiques globaux et de leurs effets contrastés sur les écosystèmes forestiers. Elle proposera ensuite une mise en perspective de la répartition mondiale des différents types de forêts et des services écosystémiques qu’ils nous rendent\, dont la fixation du carbone. Seront également abordées les menaces qui pèsent sur ces milieux\, dont la déforestation et la dégradation liées aux dynamiques économiques. Enfin\, la discussion s’élargira aux leviers d’actions possibles\, notamment du côté des modes de consommation\, afin d’esquisser des pistes pour un avenir plus durable. » \nRendez-vous le 12 novembre 2025 de 18h30 à 20h00 dans la Salle Académique de l’Université de Liège. \nInscription gratuite mais obligatoire.
URL:https://poledesconferences.be/event/forets-et-climat-equilibres-fragiles-enjeux-globaux/
LOCATION:Salle Académique de l’Université de Liège\, Place du XX août 7\, Liège\, Liège\, 4000\, Belgium
CATEGORIES:Environnement et transition
ATTACH;FMTTYPE=image/png:https://poledesconferences.be/wp-content/uploads/2025/11/th-1024x0-conf_foret_climat_2.png.png
END:VEVENT
BEGIN:VEVENT
DTSTART;TZID=UTC:20251106T200000
DTEND;TZID=UTC:20251106T220000
DTSTAMP:20260420T194938
CREATED:20251104T143816Z
LAST-MODIFIED:20251104T143816Z
UID:10000091-1762459200-1762466400@poledesconferences.be
SUMMARY:Die Jahreszeiten [Les saisons] de Joseph Haydn
DESCRIPTION:« Pour la première fois\, le Chœur Universitaire de Liège s’associe au Chœur Symphonique de Liège et à l’Orchestre Jean-Noël Hamal pour proposer une oeuvre d’exception rarement jouée de par son audace et ses exigences musicales : L’oratorio profane ‘Die Jahreszeiten’ le 16 novembre dans la salle philarmonique de Liège. \nEn préambule de ce concert\, le musicologue Jean-Marc Onkelinx donnera une conférence en la salle académique de l’Université\, pour présenter l’oeuvre et donner quelques clés de lecture. \n‘Les Saisons’ est un oratorio de Joseph Haydn\, composé en 1800-1801. Cette oeuvre musicale célèbre les plaisirs et les changements de la nature au fil des saisons : le printemps\, l’été\, l’automne et l’hiver. Inspiré par les poèmes de l’écrivain autrichien James Thomson\, cet oratorio mêle chœur\, solistes et orchestre\, mettant en avant les joies de la vie rurale et les émotions humaines en harmonie avec le cycle naturel. Haydn offre une riche palette musicale\, allant de l’énergique à l’intime\, révélant ainsi son génie créatif. » \nRendez-vous le 6 novembre 2025 à 20h dans la Salle Académique de l’ULiège. \nTarifs : \n\n10€\n5€ pour les étudiants
URL:https://poledesconferences.be/event/die-jahreszeiten-les-saisons-de-joseph-haydn/
LOCATION:Salle Académique de l’Université de Liège\, Place du XX août 7\, Liège\, Liège\, 4000\, Belgium
CATEGORIES:Art et Culture
ATTACH;FMTTYPE=image/jpeg:https://poledesconferences.be/wp-content/uploads/2025/11/th-1024x0-jean-marc_onkelinx.jpg.jpg
END:VEVENT
BEGIN:VEVENT
DTSTART;TZID=UTC:20251105T080000
DTEND;TZID=UTC:20251105T170000
DTSTAMP:20260420T194938
CREATED:20251105T092545Z
LAST-MODIFIED:20251105T092545Z
UID:10000104-1762329600-1762362000@poledesconferences.be
SUMMARY:Troubles alimentaires à l'adolescence\, du plaisir à l'enfer
DESCRIPTION:Conférence grand public dans le cadre du cycle « Et si on parlait du cerveau ? » \n« Les troubles des conduites alimentaires (TCA) connaissent depuis quelques temps une hausse considérable de leur prévalence au sein de la population générale\, mais plus particulièrement parmi la population des moins de 25 ans\, avec un pic d’incidence majeur entre 14 et 18 ans. Nombre d’adolescents concernés sont encore malheureusement sous-dépistés et non pris en charge. Seulement 10% d’entre eux le sont\, dont à peine 1/3 par des professionnels spécialisés. La compréhension des mécanismes qui sous-tendent ou précipitent l’émergence de ces TCA et leur détection précoce sont essentielles afin de promouvoir la prévention primaire et optimiser la prise en charge de ces jeunes. » \nRendez-vous el 25 novembre 2025 de 20h00 à 22h00 à l’Université de Liège – Centre-Ville (salle à préciser). \nGratuit\, sur inscription.
URL:https://poledesconferences.be/event/troubles-alimentaires-a-ladolescence-du-plaisir-a-lenfer/
LOCATION:Université de Liège – Centre Ville (XX Août)\, Place du XX Août 7\, Liège\, Liège\, 4000\, Belgium
CATEGORIES:Santé et médecine
ATTACH;FMTTYPE=image/jpeg:https://poledesconferences.be/wp-content/uploads/2025/11/ESOPC-2025-4.jpg
END:VEVENT
BEGIN:VEVENT
DTSTART;TZID=UTC:20251031T193000
DTEND;TZID=UTC:20251031T210000
DTSTAMP:20260420T194938
CREATED:20251104T142819Z
LAST-MODIFIED:20251104T142819Z
UID:10000090-1761939000-1761944400@poledesconferences.be
SUMMARY:Du chaos au cosmos : l'odyssée astronomique grecque
DESCRIPTION:« Comment les Grecs de l’Antiquité se représentaient-ils le cosmos ? Pensaient-ils que la Terre était plate ? Que le Soleil tournait autour de celle-ci ? Avaient-ils une idée de la distance entre la Terre et la Lune ? Voici quelques-unes des questions auxquelles je souhaite répondre en vous invitant à un voyage à travers le temps et ce\, depuis le VIIIe siècle av. J.-C. jusqu’au IIe siècle après J.-C. \nDe la représentation mythologique de l’Univers en passant par les influences babyloniennes et égyptiennes\, nous verrons comment la pensée grecque\, à la fois philosophique et scientifique\, s’est développée en Asie mineure et s’est répandue petit à petit autour du bassin méditerranéen. De Thalès de Milet à Claude Ptolémée\, venez découvrir comment intuitions\, observations et réflexions ont peu à peu façonné notre représentation de l’Univers… En route pour le voyage ? » \nRendez-vous le 31 octobre 2025 à 19h30 à l’Université de Liège – Campus du Centre Ville – Zone Outremeuse. \nTarifs : \n\n2€ pour les membres\n3€ pour les étudiants\n5€ pour les non membres.
URL:https://poledesconferences.be/event/du-chaos-au-cosmos-lodyssee-astronomique-grecque/
LOCATION:Université de Liège – Campus du Centre Ville – Zone Outremeuse – Institut de Physiologie – Grand Auditoire\, Place Delcour 17\, Liège\, Liège\, 4020\, Belgium
CATEGORIES:Histoire et culture
ATTACH;FMTTYPE=image/png:https://poledesconferences.be/wp-content/uploads/2025/11/th-1024x0-agenda-sal-chaoscosmos-lhoest-mscopilot.png.png
END:VEVENT
BEGIN:VEVENT
DTSTART;TZID=UTC:20251024T190000
DTEND;TZID=UTC:20251024T210000
DTSTAMP:20260420T194938
CREATED:20251104T124139Z
LAST-MODIFIED:20251104T124139Z
UID:10000089-1761332400-1761339600@poledesconferences.be
SUMMARY:Conférence-repas : Burger Story\, chronique d'une ascension mondiale
DESCRIPTION:« Icône du fast-food\, symbole de l’Amérique ou star de la street food revisitée. Le burger fascine\, divise et fait saliver. Mais connaît-on vraiment son histoire ? A l’occasion de la parution de son Petit traité du burger (éd. Le Sureau)\, Pierre Leclercq vous invite à découvrir les origines étonnantes\, les détours culturels et les évolutions gastronomiques de ce sandwich pas comme les autres. Avec le livre en vente et en dédicace. Avec une sélection de plusieurs recettes de burgers du livre qui vous sera concoctée par notre chef Alain Crudenaire. » \nRendez-vous le 24 octobre 2025 à 19h\, à la Maison de la Presse de Liège. \nTarif : 47€ hors boissons. \n 
URL:https://poledesconferences.be/event/conference-repas-burger-story-chronique-dune-ascension-mondiale/
LOCATION:Maison de la Presse\, Rue Haute Sauvenière 19\, Liège\, Liège\, 4000\, Belgium
CATEGORIES:Activités et loisirs jeune public,Histoire et culture
ATTACH;FMTTYPE=image/jpeg:https://poledesconferences.be/wp-content/uploads/2025/11/th-1024x0-burger.jpg.jpg
END:VEVENT
END:VCALENDAR