BEGIN:VCALENDAR
VERSION:2.0
PRODID:-//Pôle des conférences - ECPv6.15.20//NONSGML v1.0//EN
CALSCALE:GREGORIAN
METHOD:PUBLISH
X-WR-CALNAME:Pôle des conférences
X-ORIGINAL-URL:https://poledesconferences.be
X-WR-CALDESC:Évènements pour Pôle des conférences
REFRESH-INTERVAL;VALUE=DURATION:PT1H
X-Robots-Tag:noindex
X-PUBLISHED-TTL:PT1H
BEGIN:VTIMEZONE
TZID:UTC
BEGIN:STANDARD
TZOFFSETFROM:+0000
TZOFFSETTO:+0000
TZNAME:UTC
DTSTART:20240101T000000
END:STANDARD
END:VTIMEZONE
BEGIN:VEVENT
DTSTART;TZID=UTC:20251127T171500
DTEND;TZID=UTC:20251127T190000
DTSTAMP:20260420T195338
CREATED:20251024T100641Z
LAST-MODIFIED:20251024T100641Z
UID:10000051-1764263700-1764270000@poledesconferences.be
SUMMARY:Prévention des maladies cardiovasculaires : suivi de règles hygiéno-diététiques ou prise d'une polypill ?
DESCRIPTION:« Les maladies cardiovasculaires hypothèquent à la fois la qualité de vie et l’espérance de vie de plusieurs centaines de milliers de personnes en Belgique. Pourtant\, elles peuvent être en grande partie prévenues par le style de vie et/ou des médicaments. » \nRendez-vous le 27 novembre 2025 de 17h15 à 19h00 dans l’Auditoire de l’Ancien Institut d’Anatomie/Institut Supérieur des Langues Vivantes (ISLV). \nTarifs : \n\n2\,50€ pour les membres des Amis de l’ULiège ou des seniors de la Ville.\n5€ pour les non membres.\nGratuit pour les étudiants de – 25 ans et les demandeurs d’emploi.\n\n 
URL:https://poledesconferences.be/event/prevention-des-maladies-cardiovasculaires-suivi-de-regles-hygieno-dietetiques-ou-prise-dune-polypill/
LOCATION:Auditoire de l’Ancien Institut d’Anatomie / ISLV\, Rue de Pitteurs 20\, Liège\, Liège\, 4020\, Belgium
CATEGORIES:Santé et médecine
ATTACH;FMTTYPE=image/jpeg:https://poledesconferences.be/wp-content/uploads/2025/10/th-1024x0-1280x720_pilule_pexels.jpg.jpg
END:VEVENT
BEGIN:VEVENT
DTSTART;TZID=UTC:20251125T170000
DTEND;TZID=UTC:20251125T190000
DTSTAMP:20260420T195338
CREATED:20251024T100234Z
LAST-MODIFIED:20251024T100234Z
UID:10000050-1764090000-1764097200@poledesconferences.be
SUMMARY:Les mystères de Mithra : un dieu iranien dans la Rome impériale
DESCRIPTION:« A son apogée\, l’empire romain reçoit de multiples influences\, y compris au niveau des croyances religieuses. Ainsi voit-on se développer un culte à mystères autour de la figure d’un dieu nommé Mithra. Ses lieux de culte sont nombreux\, mais nous n’avons pratiquement pas de textes\, aussi le doute reste-t-il grand. Qui est Mithra ? Est-il bien la contrepartie du dieu mazdéen Mitra\, dont les troupes romaines ont pu faire la connaissance en occupant l’Anatolie\, l’actuelle Turquie\, qui avait antérieurement appartenu à l’empire perse achéménide ? Du reste\, qui est Mitra lui-même ? Et dans quelles conditions peut-on parler de ‘religion nouvelle’ ? Nous nous efforcerons de faire le point sur une question difficile\, mais nous verrons que c’est une bonne façon de remettre en perspective certaines de nos opinions actuelles. » \nRendez-vous le 25 novembre 2025 de 17h00 à 19h00 dans l’Auditoire de l’Ancien Institut d’Anatomie/Institut Supérieur des Langues Vivantes (ISLV). \nTarifs : \n\n2\,50€ pour les membres des Amis de l’ULiège ou des seniors de la Ville.\n5€ pour les non membres.\nGratuit pour les étudiants et les demandeurs d’emploi.
URL:https://poledesconferences.be/event/les-mysteres-de-mithra-un-dieu-iranien-dans-la-rome-imperiale/
LOCATION:Auditoire de l’Ancien Institut d’Anatomie / ISLV\, Rue de Pitteurs 20\, Liège\, Liège\, 4020\, Belgium
CATEGORIES:Histoire et culture
ATTACH;FMTTYPE=image/jpeg:https://poledesconferences.be/wp-content/uploads/2025/10/th-1024x0-1280x720_mithra_pixabay.jpg.jpg
END:VEVENT
BEGIN:VEVENT
DTSTART;TZID=UTC:20251124T140000
DTEND;TZID=UTC:20251124T160000
DTSTAMP:20260420T195338
CREATED:20251024T095708Z
LAST-MODIFIED:20251024T095708Z
UID:10000049-1763992800-1764000000@poledesconferences.be
SUMMARY:Intelligences artificielles génératives et conception architecturale
DESCRIPTION:« Les IA génératives\, qu’elles visent la génération de textes\, d’images ou autres artefacts\, se multiplient et rencontrent actuellement un grand succès médiatique. Dans cette présentation\, on s’interrogera sur leurs développements et leurs impacts sur la pratique de l’architecture\, un domaine qui doit répondre à de nombreuses contraintes\, autant sociales qu’urbaines\, environnementales et énergétiques. Quelles perspectives lui ouvre l’IA ? Et quels changements sont à prévoir pour le métier d’architecte ? » \nCe module est organisé avec les soutiens : \n\nde l’ULiège et de son service communication\nde la Ville de Verviers\, son Echevinat de la culture\, son Echevinat de l’égalité des chances\, le Centre Culturel de Verviers\, Verts & Vifs\ndes Amis de l’Université de Liège.\n\nRendez-vous le 24 novembre 2025 de 14h00 à 16h00 dans la Salle de l’Ancienne Intermosane à Verviers. \nTarifs : \n\n2\,50€ pour les membres de Verts et Vifs et des Amis de l’ULiège.\n5€ pour les non membres.\nGratuit pour les étudiants.\n\nInscriptions obligatoires au Centre Culturel de Verviers via le 087 39 30 60 ou via www.ccverviers.be.
URL:https://poledesconferences.be/event/intelligences-artificielles-generatives-et-conception-architecturale/
LOCATION:Salle de l’Ancienne Intermosane\, 2 Rue du Pont de Somneville\, Verviers\, Liège\, 4800\, Belgium
CATEGORIES:Immobilier et urbanisme,Intelligence artificielle
ATTACH;FMTTYPE=image/jpeg:https://poledesconferences.be/wp-content/uploads/2025/10/th-1024x0-wal_172619_-_pixabay.jpg.jpg
END:VEVENT
BEGIN:VEVENT
DTSTART;TZID=UTC:20251120T171500
DTEND;TZID=UTC:20251120T190000
DTSTAMP:20260420T195338
CREATED:20251024T095119Z
LAST-MODIFIED:20251024T095119Z
UID:10000048-1763658900-1763665200@poledesconferences.be
SUMMARY:Prévention des infections\, rôle des vaccinations
DESCRIPTION:« Après un rappel sur l’évolution de certaines maladies à la suite de l’introduction de la vaccination\, nous aborderons les différents vaccins par catégorie. Sera d’abord discutée la vaccination de base de l’adulte (tétanos\, diphtérie et coqueluche) avec quelques chiffres épidémiologiques concernant ces maladies en Belgique. Ensuite\, on abordera les vaccins saisonniers (grippe) et les vaccins respiratoires (pneumocoque\, virus syncitial respiratoire). Quelques nouveautés vaccinales seront abordées (vaccin du zona). Les vaccins administrés dans le cadre des voyages à l’étranger seront brièvement présentés (fièvre jaune\, poliomyélites\, hépatites). » \nRendez-vous le 20 novembre 2025 de 17h15 à 19h00 dans l’Auditoire de l’Ancien Institut d’Anatomie/Institut Supérieur des Langues Vivantes (ISLV). \nTarifs: \n\n2\,50€ pour les membres des Amis de l’ULiège ou des seniors de la Vile.\n5€ pour les non membres.\nGratuit pour les étudiants de – 25 ans et les demandeurs d’emploi.\n\n 
URL:https://poledesconferences.be/event/prevention-des-infections-role-des-vaccinations/
LOCATION:Auditoire de l’Ancien Institut d’Anatomie / ISLV\, Rue de Pitteurs 20\, Liège\, Liège\, 4020\, Belgium
CATEGORIES:Santé et médecine
ATTACH;FMTTYPE=image/jpeg:https://poledesconferences.be/wp-content/uploads/2025/10/th-1024x0-1280x720_vaccin_pexels.jpg.jpg
END:VEVENT
BEGIN:VEVENT
DTSTART;TZID=UTC:20251118T170000
DTEND;TZID=UTC:20251118T190000
DTSTAMP:20260420T195339
CREATED:20251024T093715Z
LAST-MODIFIED:20251024T093715Z
UID:10000047-1763485200-1763492400@poledesconferences.be
SUMMARY:De la victoire au pouvoir : les imperatores de la fin de la République vus à travers leurs monnaies
DESCRIPTION:Le dernier siècle de la Républiques romaine (133-31 av. J.-C.) est à la fois une époque de graves crises politiques et de grandes conquêtes qui eurent pour protagonistes des imperatores restés célèbres : Marius et Sylla\, Pompée et César\, Marc Antoine et Octavien-Auguste. Pour étudier la façon dont ces commandants exaltèrent leurs succès militaires et légitimèrent leur position de pouvoir\, les historiens ont à disposition une source d’information précieuse : la monnaie. La conférence présentera les monnayages frappés par et pour ces généraux et analysera les messages politiques véhiculés par les images et inscriptions monétaires. » \nRendez-vous le 18 novembre 2025 de 17h00 à 19h00 dans l’Auditoire de l’Ancien Institut d’Anatomie/Institut Supérieur des Langues Vivantes (ISLV). \nTarifs: \n\n2\,50€ pour les membres des Amis de l’ULiège ou des seniors de la Ville.\n5€ pour les non membres.\nGratuit pour les étudiants de – 25 ans et les demandeurs d’emploi.\n\n 
URL:https://poledesconferences.be/event/de-la-victoire-au-pouvoir-les-imperatores-de-la-fin-de-la-republique-vus-a-travers-leurs-monnaies/
LOCATION:Auditoire de l’Ancien Institut d’Anatomie / ISLV\, Rue de Pitteurs 20\, Liège\, Liège\, 4020\, Belgium
CATEGORIES:Histoire et culture,Société et sciences humaines
ATTACH;FMTTYPE=image/jpeg:https://poledesconferences.be/wp-content/uploads/2025/10/th-1024x0-1280x720_monnaie_freepik_redim.jpg.jpg
END:VEVENT
BEGIN:VEVENT
DTSTART;TZID=UTC:20251117T140000
DTEND;TZID=UTC:20251117T160000
DTSTAMP:20260420T195339
CREATED:20251024T091913Z
LAST-MODIFIED:20251024T091913Z
UID:10000046-1763388000-1763395200@poledesconferences.be
SUMMARY:L'intelligence artificielle au cinéma - machines hostiles
DESCRIPTION:« Le développement de l’intelligence artificielle dans l’industrie du cinéma touche désormais bien plus que le secteur des effets spéciaux : montage\, doublage\, réalisation et même interprétation. Si la technologie fascine\, elle suscite aussi de nombreuses inquiétudes dans les cercles professionnels. L’encadrement de l’intelligence artificielle dans le cinéma et la télévision est d’ailleurs un des motifs majeurs qui avait entraîné la grève des acteurs et scénaristes à Hollywood en 2023. » \nCe module est organisé avec les soutiens : \n\nde l’ULiège et de son service communication\nde la Ville de Verviers\, son Echevinat de la culture\, son Echevinat de l’égalité des chances\, le Centre Culturel de Verviers\, Verts & Vifs\ndes Amis de l’Université de LIège.\n\nRendez-vous le 17 novembre 2025 de 14h00 à 16h00 dans la Salle de l’Ancienne Intermosane à Verviers. \nTarifs : \n\n2\,50€ pour les membres de Verts & Vifs et des Amis de l’Université de Liège.\n5€ pour les non membres.\nGratuit pour les étudiants.\n\nInscriptions obligatoires au Centre Culturel de Verviers via le 087 39 30 60 ou via www.ccverviers.be.
URL:https://poledesconferences.be/event/lintelligence-artificielle-au-cinema-machines-hostiles/
LOCATION:Salle de l’Ancienne Intermosane\, 2 Rue du Pont de Somneville\, Verviers\, Liège\, 4800\, Belgium
CATEGORIES:Art et Culture,Intelligence artificielle
ATTACH;FMTTYPE=image/jpeg:https://poledesconferences.be/wp-content/uploads/2025/10/th-1024x0-7_mars_2024-4.jpg.jpg
END:VEVENT
BEGIN:VEVENT
DTSTART;TZID=UTC:20251113T171500
DTEND;TZID=UTC:20251113T190000
DTSTAMP:20260420T195339
CREATED:20251024T091306Z
LAST-MODIFIED:20251024T091306Z
UID:10000045-1763054100-1763060400@poledesconferences.be
SUMMARY:Prévention des cancers\, importance du mode de vie et des dépistages
DESCRIPTION:« Environ 40% des cancers sont attribuables à des facteurs environnementaux potentiellement modifiables. Entre 30 et 40% des cancers se développent chez des personnes qui auraient pu être identifiées comme étant à risque augmenté des années plus tôt. La prévention et le diagnostic précoce du cancer sont des enjeux majeurs de santé publiques\, qui ne reçoivent pas encore toute l’attention qu’ils méritent. Seront discutés l’évolution épidémiologique actuelle des cancers\, leurs facteurs de risques et leurs symptômes précoces. Ces différents éléments nous permettront ainsi de comprendre comment chacun peut agir pour diminuer le risque d’être un jour atteint d’un cancer\, de le diagnostiquer précocement\, voire de l’intercepter ! » \nRendez-vous le 13 novembre 2025 de 17h15 à 19h00 dans l’Auditoire de l’Ancien Institut d’Anatomie/Institut Supérieur des Langues Vivantes (ISLV). \nTarifs : \n\n2\,50€ pour les membres des Amis de l’Université de Liège ou des seniors de la Ville.\n5€ pour les non membres.\nGratuit pour les étudiants de – 25 ans et les demandeurs d’emploi.\n\n 
URL:https://poledesconferences.be/event/prevention-des-cancers-importance-du-mode-de-vie-et-des-depistages/
LOCATION:Auditoire de l’Ancien Institut d’Anatomie / ISLV\, Rue de Pitteurs 20\, Liège\, Liège\, 4020\, Belgium
CATEGORIES:Santé et médecine
ATTACH;FMTTYPE=image/png:https://poledesconferences.be/wp-content/uploads/2025/10/th-1024x0-prevention_cancer_pexels.jpg.png.png
END:VEVENT
BEGIN:VEVENT
DTSTART;TZID=UTC:20251106T171500
DTEND;TZID=UTC:20251106T190000
DTSTAMP:20260420T195339
CREATED:20251024T090711Z
LAST-MODIFIED:20251024T090711Z
UID:10000044-1762449300-1762455600@poledesconferences.be
SUMMARY:Importance du bien-être pour le vieillissement cognitif
DESCRIPTION:« Le vieillissement cognitif est un processus naturel qui nous affecte tous avec l’âge et peut amener son lot d’inquiétudes\, de stress et de mal-être. Faire des mots croisés\, utiliser les applis d’entraînement cérébral\, est-ce vraiment la solution pour ralentir ce processus ? Quelles sont les activités qui stimulent notre cerveau ? Comment obtenir l’équilibre entre notre activité mentale et notre bien-être psychologique pour un vieillissement plus harmonieux\, tels seront les axes développés au cours de la conférence. » \nRendez-vous le 6 novembre 2025 entre 17h15 et 19h00 dans l’Auditoire de l’Ancien Institut d’Anatomie/Institut Supérieur des Langues Vivantes (ISLV). \nTarifs: \n\n2\,50€ pour les membres des Amis de l’Université de Liège ou des seniors de la Ville).\n5€ pour les non membres.\nGratuit pour les étudiants de – 25 ans et les demandeurs d’emploi.
URL:https://poledesconferences.be/event/importance-du-bien-etre-pour-le-vieillissement-cognitif/
LOCATION:Auditoire de l’Ancien Institut d’Anatomie / ISLV\, Rue de Pitteurs 20\, Liège\, Liège\, 4020\, Belgium
CATEGORIES:Santé et médecine
ATTACH;FMTTYPE=image/png:https://poledesconferences.be/wp-content/uploads/2025/10/th-1024x0-bien-etre_pexels.png.png
END:VEVENT
BEGIN:VEVENT
DTSTART;TZID=UTC:20251104T170000
DTEND;TZID=UTC:20251104T190000
DTSTAMP:20260420T195339
CREATED:20251024T090115Z
LAST-MODIFIED:20251024T090153Z
UID:10000043-1762275600-1762282800@poledesconferences.be
SUMMARY:Les tribuns de la plèbe face aux grands conflits de leur temps
DESCRIPTION:« ‘Magistrature’ d’origine révolutionnaire\, née dans la sécession de la plèbe en 493 av. J.-C.\, le tribunat a joué un rôle prépondérant dans les institutions politiques romains depuis son origines jusqu’aux conflits tardo-républicains du 1er siècle av. J.-C. Dans le cadre de cette conférence\, nous nous intéresserons à l’utilisation\, parfois totalement inédite\, que les tribuns ont pu faire de leurs pouvoirs afin de s’investir activement dans les grands conflits de leur temps. » \nRendez-vous le 4 novembre 2025 de 17h00 à 19h00 dans l’Auditoire de l’Ancien Institut d’Anatomie/Institut Supérieur des Langues Vivantes (ISLV). \nTarifs : \n\n2\,50€ pour les membres des Amis de l’Université de Liège ou des seniors de la Ville)\n5€ pour les non membres.\nGratuit pour les étudiants de moins de 25 ans et les demandeurs d’emploi.\n\n 
URL:https://poledesconferences.be/event/les-tribuns-de-la-plebe-face-aux-grands-conflits-de-leur-temps/
LOCATION:Auditoire de l’Ancien Institut d’Anatomie / ISLV\, Rue de Pitteurs 20\, Liège\, Liège\, 4020\, Belgium
CATEGORIES:Société et sciences humaines
ATTACH;FMTTYPE=image/png:https://poledesconferences.be/wp-content/uploads/2025/10/th-1024x0-plebes_canva.png.png
END:VEVENT
BEGIN:VEVENT
DTSTART;TZID=UTC:20251103T140000
DTEND;TZID=UTC:20251103T160000
DTSTAMP:20260420T195339
CREATED:20251024T085218Z
LAST-MODIFIED:20251024T085218Z
UID:10000042-1762178400-1762185600@poledesconferences.be
SUMMARY:L'intelligence artificielle\, le nouveau scalpel de la médecine
DESCRIPTION:« L’intégration de l’intelligence artificielle (IA) dans les soins de santé n’est pas simplement une évolution mais une révolution en marche qui redéfinit fondamentalement la pratique médicale. Alors que nous explorons son parcours\, des débuts modestes jusqu’à son expansion actuelle\, il est clair que l’IA médicale représente bien plus qu’un simple outil\, c’est une nouvelle frontière de la médecine contemporaine. » \nRendez-vous le 3 novembre 2025 de 14h00 à 16h00 dans la Salle de l’Ancienne Intermosane à Verviers. \nTarifs : \n\n2\,50€ pour les membres de Verts et Vifs et les membres des Amis de l’ULiège).\n5€ pour les non membres.\nGratuit pour les étudiants.\n\nInscriptions obligatoires au Centre Culturel de Verviers via 087 93 90 60 ou via www.ccverviers.be
URL:https://poledesconferences.be/event/lintelligence-artificielle-le-nouveau-scalpel-de-la-medecine/
LOCATION:Salle de l’Ancienne Intermosane\, 2 Rue du Pont de Somneville\, Verviers\, Liège\, 4800\, Belgium
CATEGORIES:Intelligence artificielle,Santé et médecine
ATTACH;FMTTYPE=image/jpeg:https://poledesconferences.be/wp-content/uploads/2025/10/th-1024x0-gerd_altmann_-_pixabay.jpg.jpg
END:VEVENT
END:VCALENDAR