BEGIN:VCALENDAR
VERSION:2.0
PRODID:-//Pôle des conférences - ECPv6.15.20//NONSGML v1.0//EN
CALSCALE:GREGORIAN
METHOD:PUBLISH
X-WR-CALNAME:Pôle des conférences
X-ORIGINAL-URL:https://poledesconferences.be
X-WR-CALDESC:Évènements pour Pôle des conférences
REFRESH-INTERVAL;VALUE=DURATION:PT1H
X-Robots-Tag:noindex
X-PUBLISHED-TTL:PT1H
BEGIN:VTIMEZONE
TZID:UTC
BEGIN:STANDARD
TZOFFSETFROM:+0000
TZOFFSETTO:+0000
TZNAME:UTC
DTSTART:20250101T000000
END:STANDARD
END:VTIMEZONE
BEGIN:VEVENT
DTSTART;TZID=UTC:20260127T200000
DTEND;TZID=UTC:20260127T220000
DTSTAMP:20260420T151021
CREATED:20251218T101352Z
LAST-MODIFIED:20251218T101352Z
UID:10000116-1769544000-1769551200@poledesconferences.be
SUMMARY:Apprendre à résister à nos automatismes pour mieux apprendre\, penser et décider
DESCRIPTION:« Nous sommes confrontés à chaque instant à un flux d’informations qui dépassent les capacités de traitement de l’information de notre cerveau. Nos cerveaux passent donc leur temps à sélectionner les informations pertinentes de celles qui le sont moins et développent des automatismes qui nous permettent très rapidement de penser et de décider… » \nRendez-vous le 27 janvier 2026 de 20h00 à 22h00 à l’Opéra de Liège. \nGratuit\, sur inscription.
URL:https://poledesconferences.be/event/apprendre-a-resister-a-nos-automatismes-pour-mieux-apprendre-penser-et-decider/
LOCATION:Université de Liège – Campus du Centre Ville – Espace Opéra\, Place de la République Française 35\, Liège\, Liège\, 4000\, Belgium
CATEGORIES:Santé et médecine
ATTACH;FMTTYPE=image/jpeg:https://poledesconferences.be/wp-content/uploads/2025/12/Capture-decran-2025-11-24-a-11.37.04.jpg
END:VEVENT
END:VCALENDAR