BEGIN:VCALENDAR
VERSION:2.0
PRODID:-//Pôle des conférences - ECPv6.15.20//NONSGML v1.0//EN
CALSCALE:GREGORIAN
METHOD:PUBLISH
X-WR-CALNAME:Pôle des conférences
X-ORIGINAL-URL:https://poledesconferences.be
X-WR-CALDESC:Évènements pour Pôle des conférences
REFRESH-INTERVAL;VALUE=DURATION:PT1H
X-Robots-Tag:noindex
X-PUBLISHED-TTL:PT1H
BEGIN:VTIMEZONE
TZID:UTC
BEGIN:STANDARD
TZOFFSETFROM:+0000
TZOFFSETTO:+0000
TZNAME:UTC
DTSTART:20240101T000000
END:STANDARD
END:VTIMEZONE
BEGIN:VEVENT
DTSTART;TZID=UTC:20260409T180000
DTEND;TZID=UTC:20260409T203000
DTSTAMP:20260420T165817
CREATED:20260330T140615Z
LAST-MODIFIED:20260330T140615Z
UID:10000153-1775757600-1775766600@poledesconferences.be
SUMMARY:Manger durable\, pour tous : quel rôle pour les acteurs de la distribution ?
DESCRIPTION:Cet événement aura lieu dans le cadre du Festival Nourrir les Campus organisé du 9 au 19 avril 2026. \n« Rendre l’alimentation durable accessible à toutes et tous suppose de changer l’agroécologie d’échelle. Quels rôles les différents modèles de distribution – y compris la grande distribution – peuvent-ils jouer pour y parvenir\, par exemple face à la demande accrue qu’impliquerait une Sécurité sociale de l’alimentation à l’échelle nationale ? Chercheurs\, acteurs de filières locales\, représentants de la distribution et responsables politiques croiseront leurs regards lors de la conférence inaugurale du festival Nourrir Liège 2026 – débat inédite. » \nRendez-vous le jeudi 9 avril 2026 de 18h00 à 20h30 à la Salle Académique de l’Université de liège. \nGratuit\, sur inscription.
URL:https://poledesconferences.be/event/manger-durable-pour-tous-quel-role-pour-les-acteurs-de-la-distribution/
LOCATION:Salle Académique de l’Université de Liège\, Place du XX août 7\, Liège\, Liège\, 4000\, Belgium
CATEGORIES:Alimentation et santé
ATTACH;FMTTYPE=image/png:https://poledesconferences.be/wp-content/uploads/2026/03/th-1024x0-conference_-_oxfam.png.png
END:VEVENT
BEGIN:VEVENT
DTSTART;TZID=UTC:20260402T180000
DTEND;TZID=UTC:20260402T203000
DTSTAMP:20260420T165817
CREATED:20260330T132237Z
LAST-MODIFIED:20260330T132237Z
UID:10000151-1775152800-1775161800@poledesconferences.be
SUMMARY:Chaire Francqui internationale 2026 - Pr Frédéric HURLET
DESCRIPTION:« La Faculté des Philosophie et Lettres a le plaisir d’accueillir le Professeur Frédéric Hurlet dans le cadre de la Chaire Francqui Internationale. Professeur d’histoire romaine à l’Université de Paris Nanterre\, il donnera une leçon inaugurale à Liège\, suivie de six leçons\, quatre à l’Université de Liège et deux chez nos partenaires\, l’Université de Namur et l’Université catholique de Louvain. \nLeçon inaugurale : ‘Visibiliser l’action historique des femmes. Des gender studies à l’histoire mixte. L’exemple de l’histoire romaine. » \nRendez-vous le jeudi 2 avril à 18h00 dans la Salle Académique de l’Université de Liège. \nInscription gratuite mais souhaitée.
URL:https://poledesconferences.be/event/chaire-francqui-internationale-2026-pr-frederic-hurlet/
LOCATION:Salle Académique de l’Université de Liège\, Place du XX août 7\, Liège\, Liège\, 4000\, Belgium
CATEGORIES:Enseignement et formations,Histoire et culture
ATTACH;FMTTYPE=image/jpeg:https://poledesconferences.be/wp-content/uploads/2026/03/th-1024x0-chaire_internationale_francqui_2026.jpg.jpg
END:VEVENT
BEGIN:VEVENT
DTSTART;TZID=UTC:20260331T183000
DTEND;TZID=UTC:20260331T203000
DTSTAMP:20260420T165817
CREATED:20260304T100024Z
LAST-MODIFIED:20260304T100024Z
UID:10000150-1774981800-1774989000@poledesconferences.be
SUMMARY:"Ecrire en terre bâtarde" de Monique Séverin
DESCRIPTION:« Née à l’ïle de la Réunion\, Monique Séverein écrit essentiellement sur son univers originel. Dans son recueil de nouvelles Némésis et autres humeurs noires\, elle explore les tensions qui traversent l’île. En 2022\, avec La peine de l’eau ou Sisyphe l’Africaine\, elle s’interroge sur la matrice océanique à l’origine du monde complexe qu’est La Réunion. Cette complexité se retrouve également dans son roman La Bâtarde du Rhin\, qui traite aussi de la place de la femme\, des lignées familiales et des héritages tragiques à guérir\, avec l’eugénisme et l’esclavage en toile de fond […]. \nRendez-vous le 31 mars 2026 à 18h30 dans la Salle Académique de l’Université de Liège \nGratuit\, sur inscription.
URL:https://poledesconferences.be/event/ecrire-en-terre-batarde-de-monique-severin/
LOCATION:Salle Académique de l’Université de Liège\, Place du XX août 7\, Liège\, Liège\, 4000\, Belgium
CATEGORIES:Art et Culture,Société et sciences humaines
ATTACH;FMTTYPE=image/jpeg:https://poledesconferences.be/wp-content/uploads/2026/03/th-1024x0-chaire_francophonies.jpg.jpg
END:VEVENT
BEGIN:VEVENT
DTSTART;TZID=UTC:20260309T183000
DTEND;TZID=UTC:20260309T201500
DTSTAMP:20260420T165817
CREATED:20260304T092259Z
LAST-MODIFIED:20260304T092259Z
UID:10000143-1773081000-1773087300@poledesconferences.be
SUMMARY:Deux concepts aux applications : les deux révolutions quantiques [COMPLET]
DESCRIPTION:« La première révolution quantique est basée sur le concept de dualité onde-particule\, découvert par Albert Einstein et Louis de Broglie. Elle a permis d’élucider la structure de la matière dans ses aspects les plus subtils\, et permis l’invention du transistor\, du laser\, et des circuits d’ordinateur\, à la base de la société de l’information et de la communication. La seconde révolution quantique est d’abord basées sur le concept d’intrication\, mis en lumière par le débat quasi philosophique entre Einstein et Niels Bohr\, débuté en 1935 […]. \nCette conférence affiche actuellement COMPLET. \nRendez-vous le 9 mars 2026 de 18h30 à 20h15 dans la Salle Académique de l’Université de Liège. \n 
URL:https://poledesconferences.be/event/deux-concepts-aux-applications-les-deux-revolutions-quantiques-complet/
LOCATION:Salle Académique de l’Université de Liège\, Place du XX août 7\, Liège\, Liège\, 4000\, Belgium
CATEGORIES:Sciences et technologies,Société et sciences humaines
ATTACH;FMTTYPE=image/png:https://poledesconferences.be/wp-content/uploads/2026/03/th-1024x0-2026-03-09_dhc_aaspect-agenda_2025-08-29_15-09-19_431.png.png
END:VEVENT
BEGIN:VEVENT
DTSTART;TZID=UTC:20251211T170000
DTEND;TZID=UTC:20251211T183000
DTSTAMP:20260420T165817
CREATED:20251124T083605Z
LAST-MODIFIED:20251124T083605Z
UID:10000108-1765472400-1765477800@poledesconferences.be
SUMMARY:Une perspective sociologique sur le théâtre
DESCRIPTION:« Tout au long de l’année académique 2025-2026\, la thématique ‘Esprit critique\, audace\, résistance’ est mise en avant par l’Université de Liège. Thomas Ostermeier expliquera comment une perspective sociologique influence directement son travail théâtral et sa démarche artistique. Pour lui\, la question de l’appartenance à une classe sociale constitue une source d’inspiration majeure\, tant pour la construction des situations dramatiques que pour la configuration spécifique des personnages d’une pièce […]. » \nRendez-vous le 11 décembre 2025 de 17h00 à 18h30 dans la Salle Académique de l’ULiège. \nGratuit\, sur inscription.
URL:https://poledesconferences.be/event/une-perspective-sociologique-sur-le-theatre/
LOCATION:Salle Académique de l’Université de Liège\, Place du XX août 7\, Liège\, Liège\, 4000\, Belgium
CATEGORIES:Art et Culture
ATTACH;FMTTYPE=image/png:https://poledesconferences.be/wp-content/uploads/2025/11/th-1024x0-2025-00-00_dhc_tostermeier-declinaisons.png.png
END:VEVENT
BEGIN:VEVENT
DTSTART;TZID=UTC:20251209T193000
DTEND;TZID=UTC:20251209T213000
DTSTAMP:20260420T165817
CREATED:20251124T083034Z
LAST-MODIFIED:20251124T083034Z
UID:10000107-1765308600-1765315800@poledesconferences.be
SUMMARY:L'Aigle et le Caducée : Napoléon\, sa santé et ses médecins
DESCRIPTION:« Le Cercle Liégeois d’Histoire de la Médecine (CLHIM) organise sa deuxième conférence […]. Elle sera présentée par le Professeur Benoît LENGELE\, anatomiste et chirurgien\, Professeur ordinaire à l’UCLouvain et membre titulaire de l’Académie Royale de Médecine de Belgique. » \nRendez-vous le 9 décembre 2025 à 19h30 dans la Salle Académique de l’ULiège\, Place du XX Août. \nInscription gratuite et souhaitée.
URL:https://poledesconferences.be/event/laigle-et-le-caducee-napoleon-sa-sante-et-ses-medecins/
LOCATION:Salle Académique de l’Université de Liège\, Place du XX août 7\, Liège\, Liège\, 4000\, Belgium
CATEGORIES:Histoire et culture,Santé et médecine
ATTACH;FMTTYPE=image/png:https://poledesconferences.be/wp-content/uploads/2025/11/th-1024x0-plan_de_travail_1.png.png
END:VEVENT
BEGIN:VEVENT
DTSTART;TZID=UTC:20251203T193000
DTEND;TZID=UTC:20251203T210000
DTSTAMP:20260420T165817
CREATED:20251125T080655Z
LAST-MODIFIED:20251125T080655Z
UID:10000111-1764790200-1764795600@poledesconferences.be
SUMMARY:Conférence-débat : les Etats-Unis à l'ère du techno-fascisme
DESCRIPTION:« Dix ans après l’irruption de Donald Trump\, la politique américaine est marquée par une imbrication sans précédent entre pouvoir politique\, médias et technologie. Le trumpisme\, loin d’être une parenthèse populiste\, s’est transformé en idéologie durable\, tandis qu’une révolution numérique autoritaire émerge dans la Sillicon Valley\, portée par des figures technologiques en rupture avec les institutions démocratiques. Les trajectoires de Trump et d’Elon Musk se rejoignent ainsi dans une fusion entre capitalisme de plateforme et populisme numérique\, où la maîtrise des algorithmes devient un instrument central de pouvoir. » \nRendez-vous le 3 décembre 2025 à 19h30 dans la Salle Académique de l’Université de Liège. \nGratuit\, inscription obligatoire.
URL:https://poledesconferences.be/event/conference-debat-les-etats-unis-a-lere-du-techno-fascisme/
LOCATION:Salle Académique de l’Université de Liège\, Place du XX août 7\, Liège\, Liège\, 4000\, Belgium
CATEGORIES:Economie et politique
ATTACH;FMTTYPE=image/jpeg:https://poledesconferences.be/wp-content/uploads/2025/11/th-1024x0-president_trump_at_the_u.s._military_academy_graduation_50008558018.jpg.jpg
END:VEVENT
BEGIN:VEVENT
DTSTART;TZID=UTC:20251120T180000
DTEND;TZID=UTC:20251120T200000
DTSTAMP:20260420T165817
CREATED:20251105T085536Z
LAST-MODIFIED:20251105T085536Z
UID:10000101-1763661600-1763668800@poledesconferences.be
SUMMARY:L'abus au cœur du système catholique
DESCRIPTION:« Les deux dernières décennies ont révélé l’ampleur des abus dans le catholicisme mondial : crime sexuels sur mineurs\, abus de conscience et viols sur majeurs… La liste est longue et effroyable. Le catholicisme\, dans ses fondements\, doit-il être questionné ? \nQui n’a jamais cherché à comprendre les éléments qui\, au sein d’une société ou d’une institution donnée\, peuvent favoriser les abus\, garantir la loi du silence et entretenir le sentiment de culpabilité des victimes ? \nMadame Pedotti analysera les fondements de pensées et les mécanismes structurels et hiérarchiques qui\, dans l’église catholique\, ont contribué à des dérapages graves et récurrents. Elle abordera la question des changements qui lui semblent nécessaires et urgents. » \nRendez-vous le 20 novembre 2025 à 18h00 dans la Salle Académique de l’Université de Liège. \nParticipation libre et gratuite mais inscriptions souhaitées.
URL:https://poledesconferences.be/event/labus-au-coeur-du-systeme-catholique/
LOCATION:Salle Académique de l’Université de Liège\, Place du XX août 7\, Liège\, Liège\, 4000\, Belgium
CATEGORIES:Société et sciences humaines
ATTACH;FMTTYPE=image/jpeg:https://poledesconferences.be/wp-content/uploads/2025/11/th-1024x0-agenda-abuscatholiques-pedotti-copilot.jpg.jpg
END:VEVENT
BEGIN:VEVENT
DTSTART;TZID=UTC:20251119T183000
DTEND;TZID=UTC:20251119T200000
DTSTAMP:20260420T165817
CREATED:20251105T084941Z
LAST-MODIFIED:20251105T084941Z
UID:10000100-1763577000-1763582400@poledesconferences.be
SUMMARY:Le bois\, matériau d'avenir ?
DESCRIPTION:Cet événement a lieu dans le cadre de la Quinzaine Climat ULiège organisée du 10 au 21 novembre 2025. \n« De ressource ancestrale à matériau d’avenir\, le bois suscite aujourd’hui un intérêt renouvelé face aux défis climatiques et énergétiques. Il incarne plus que jamais une alternative clé pour une construction durable et des produits biosourcés. \nCette conférence propose d’explorer les multiples facettes du bois : son histoire et ses usages\, la gestion durable des forêts\, et son rôle dans le bilan carbone. \nLa soirée débutera par une intervention de Tom De Mil\, suivie d’une discussion avec un panel d’expert.es. Ensemble\, ils aborderont les enjeux scientifiques\, techniques et environnementaux du bois dans la construction\, l’aménagement et la transition. » \nRendez-vous le 19 novembre 2025 de 18h30 à 20h00 dans la Salle Académique de l’Université de Liège. \nGratuit\, inscription obligatoire.
URL:https://poledesconferences.be/event/le-bois-materiau-davenir/
LOCATION:Salle Académique de l’Université de Liège\, Place du XX août 7\, Liège\, Liège\, 4000\, Belgium
CATEGORIES:Environnement et transition
ATTACH;FMTTYPE=image/png:https://poledesconferences.be/wp-content/uploads/2025/11/th-1024x0-bois_2.png.png
END:VEVENT
BEGIN:VEVENT
DTSTART;TZID=UTC:20251117T193000
DTEND;TZID=UTC:20251117T213000
DTSTAMP:20260420T165817
CREATED:20251105T083115Z
LAST-MODIFIED:20251105T083115Z
UID:10000097-1763407800-1763415000@poledesconferences.be
SUMMARY:Contrôle de la physiologie de l'hôte par le microbiote
DESCRIPTION:Conférence de la Pr. Yasmine Belkaid\, PhD\, immunologiste de renommée internationale\, directrice générale de l’Institut Pasteur. \n« Le système immunitaire s’est développé de concert avec les communautés microbiennes diversifiées qui résident au niveau des sites barrières et qui\, collectivement\, constituent le microbiote. Des données scientifiques de plus en plus nombreuses indiquent que les antigènes et les métabolites microbiens entretiennent un dialogue continu avec le système immunitaire\, induisant des réponses immunitaires spécifiques au microbiote et ce même en l’absence d’inflammation. \nLors de cette conférence\, la Professeure Yasmine Belkaid examinera la façon dont l’immunité dirigée contre le microbiote façonne différents aspects de la physiologie de l’hôte\, allant de l’immunité protectrice à la réparation tissulaire. Elle montrera également comment la dérégulation de ces réponses immunitaires peut conduire à l’inflammation et à la maladie\, et soulignera les principales questions encore ouvertes concernant les interactions entre le système immunitaire et le microbiote. » \nRendez-vous le 17 novembre 2025 de 19h30 à 21h30 dans la Salle Académique de l’Université de Liège. \nGratuit\, sur inscription. \nA l’issue de la conférence\, un verre de l’amitié sera offert à toutes et à tous.
URL:https://poledesconferences.be/event/controle-de-la-physiologie-de-lhote-par-le-microbiote/
LOCATION:Salle Académique de l’Université de Liège\, Place du XX août 7\, Liège\, Liège\, 4000\, Belgium
CATEGORIES:Santé et médecine
ATTACH;FMTTYPE=image/png:https://poledesconferences.be/wp-content/uploads/2025/11/th-1024x0-2025-11-18_dhc_ybelkaid-agenda.png.png
END:VEVENT
BEGIN:VEVENT
DTSTART;TZID=UTC:20251112T183000
DTEND;TZID=UTC:20251112T200000
DTSTAMP:20260420T165817
CREATED:20251104T151740Z
LAST-MODIFIED:20251104T151740Z
UID:10000093-1762972200-1762977600@poledesconferences.be
SUMMARY:Forêts et climat : équilibres fragiles\, enjeux globaux
DESCRIPTION:Cet événement a lieu dans le cadre de la Quinzaine du Climat ULiège organisée du 10 novembre au 21 novembre 2025. \n« Les forêts tropicales\, véritables poumons verts de notre planète\, jouent un rôle essentiel dans la régulation du climat mondial. Pourtant\, elles sont aujourd’hui au coeur de multiples pressions : changements climatiques\, déforestation\, exploitation économique… Quels sont les liens complexes entre écosystèmes et notre climat ? Quelles menaces pèsent sur elles ? Et surtout\, quelles solutions pouvons-nous envisager ? \nConcrètement\, la conférence s’ouvrira sur une analyse des changements climatiques globaux et de leurs effets contrastés sur les écosystèmes forestiers. Elle proposera ensuite une mise en perspective de la répartition mondiale des différents types de forêts et des services écosystémiques qu’ils nous rendent\, dont la fixation du carbone. Seront également abordées les menaces qui pèsent sur ces milieux\, dont la déforestation et la dégradation liées aux dynamiques économiques. Enfin\, la discussion s’élargira aux leviers d’actions possibles\, notamment du côté des modes de consommation\, afin d’esquisser des pistes pour un avenir plus durable. » \nRendez-vous le 12 novembre 2025 de 18h30 à 20h00 dans la Salle Académique de l’Université de Liège. \nInscription gratuite mais obligatoire.
URL:https://poledesconferences.be/event/forets-et-climat-equilibres-fragiles-enjeux-globaux/
LOCATION:Salle Académique de l’Université de Liège\, Place du XX août 7\, Liège\, Liège\, 4000\, Belgium
CATEGORIES:Environnement et transition
ATTACH;FMTTYPE=image/png:https://poledesconferences.be/wp-content/uploads/2025/11/th-1024x0-conf_foret_climat_2.png.png
END:VEVENT
BEGIN:VEVENT
DTSTART;TZID=UTC:20251106T200000
DTEND;TZID=UTC:20251106T220000
DTSTAMP:20260420T165817
CREATED:20251104T143816Z
LAST-MODIFIED:20251104T143816Z
UID:10000091-1762459200-1762466400@poledesconferences.be
SUMMARY:Die Jahreszeiten [Les saisons] de Joseph Haydn
DESCRIPTION:« Pour la première fois\, le Chœur Universitaire de Liège s’associe au Chœur Symphonique de Liège et à l’Orchestre Jean-Noël Hamal pour proposer une oeuvre d’exception rarement jouée de par son audace et ses exigences musicales : L’oratorio profane ‘Die Jahreszeiten’ le 16 novembre dans la salle philarmonique de Liège. \nEn préambule de ce concert\, le musicologue Jean-Marc Onkelinx donnera une conférence en la salle académique de l’Université\, pour présenter l’oeuvre et donner quelques clés de lecture. \n‘Les Saisons’ est un oratorio de Joseph Haydn\, composé en 1800-1801. Cette oeuvre musicale célèbre les plaisirs et les changements de la nature au fil des saisons : le printemps\, l’été\, l’automne et l’hiver. Inspiré par les poèmes de l’écrivain autrichien James Thomson\, cet oratorio mêle chœur\, solistes et orchestre\, mettant en avant les joies de la vie rurale et les émotions humaines en harmonie avec le cycle naturel. Haydn offre une riche palette musicale\, allant de l’énergique à l’intime\, révélant ainsi son génie créatif. » \nRendez-vous le 6 novembre 2025 à 20h dans la Salle Académique de l’ULiège. \nTarifs : \n\n10€\n5€ pour les étudiants
URL:https://poledesconferences.be/event/die-jahreszeiten-les-saisons-de-joseph-haydn/
LOCATION:Salle Académique de l’Université de Liège\, Place du XX août 7\, Liège\, Liège\, 4000\, Belgium
CATEGORIES:Art et Culture
ATTACH;FMTTYPE=image/jpeg:https://poledesconferences.be/wp-content/uploads/2025/11/th-1024x0-jean-marc_onkelinx.jpg.jpg
END:VEVENT
END:VCALENDAR