BEGIN:VCALENDAR
VERSION:2.0
PRODID:-//Pôle des conférences - ECPv6.15.20//NONSGML v1.0//EN
CALSCALE:GREGORIAN
METHOD:PUBLISH
X-WR-CALNAME:Pôle des conférences
X-ORIGINAL-URL:https://poledesconferences.be
X-WR-CALDESC:Évènements pour Pôle des conférences
REFRESH-INTERVAL;VALUE=DURATION:PT1H
X-Robots-Tag:noindex
X-PUBLISHED-TTL:PT1H
BEGIN:VTIMEZONE
TZID:UTC
BEGIN:STANDARD
TZOFFSETFROM:+0000
TZOFFSETTO:+0000
TZNAME:UTC
DTSTART:20250101T000000
END:STANDARD
END:VTIMEZONE
BEGIN:VEVENT
DTSTART;TZID=UTC:20260409T170000
DTEND;TZID=UTC:20260409T190000
DTSTAMP:20260420T151809
CREATED:20251031T100200Z
LAST-MODIFIED:20251031T100200Z
UID:10000086-1775754000-1775761200@poledesconferences.be
SUMMARY:La grande distribution face aux défis de l'alimentation durable\, du climat et des droits humains
DESCRIPTION:« La grande distribution\, en tant que secteur clé de l’alimentation\, exerce un impact significatif sur les choix alimentaires\, l’environnement\, le climat et les droits humains. Ce modèle économique favorise des produits industriels\, souvent peu nutritifs\, et contribue à une exploitation excessive des ressources naturelles\, notamment à travers des chaînes d’approvisionnement globalisées et énergivores. En outre\, il participe à la dégradation de la biodiversité et à l’augmentation des émissions de gaz à effet de serre. Par ailleurs\, les conditions de travail dans certaines filières de production soulèvent des préoccupations éthiques liées aux droits humains. » \nRendez-vous le 9 avril 2026 de 17h00 à 19h00 dans l’Auditoire de l’Ancien Institut d’Anatomie/Institut Supérieur des Langues Vivantes (ISLV). \nTarifs : \n\n2\,50€ pour les membres des Amis de l’ULiège et les seniors de la Ville.\n5€ pour les non membres.\nGratuit pour les étudiants de – 25 ans et les demandeurs d’emploi.
URL:https://poledesconferences.be/event/la-grande-distribution-face-aux-defis-de-lalimentation-durable-du-climat-et-des-droits-humains/
LOCATION:Auditoire de l’Ancien Institut d’Anatomie / ISLV\, Rue de Pitteurs 20\, Liège\, Liège\, 4020\, Belgium
CATEGORIES:Environnement et transition,Société et sciences humaines
ATTACH;FMTTYPE=image/png:https://poledesconferences.be/wp-content/uploads/2025/10/th-1024x0-grande_distribution.jpg1_.png.png
END:VEVENT
END:VCALENDAR