BEGIN:VCALENDAR
VERSION:2.0
PRODID:-//Pôle des conférences - ECPv6.15.20//NONSGML v1.0//EN
CALSCALE:GREGORIAN
METHOD:PUBLISH
X-ORIGINAL-URL:https://poledesconferences.be
X-WR-CALDESC:Évènements pour Pôle des conférences
REFRESH-INTERVAL;VALUE=DURATION:PT1H
X-Robots-Tag:noindex
X-PUBLISHED-TTL:PT1H
BEGIN:VTIMEZONE
TZID:UTC
BEGIN:STANDARD
TZOFFSETFROM:+0000
TZOFFSETTO:+0000
TZNAME:UTC
DTSTART:20250101T000000
END:STANDARD
END:VTIMEZONE
BEGIN:VEVENT
DTSTART;TZID=UTC:20260302T180000
DTEND;TZID=UTC:20260302T210000
DTSTAMP:20260420T170145
CREATED:20251024T081307Z
LAST-MODIFIED:20251103T101017Z
UID:10000040-1772474400-1772485200@poledesconferences.be
SUMMARY:Pierre Kroll et Jean Plantu\, le dessin de presse
DESCRIPTION:« Avec ces deux ‘monstres sacrés’ de la caricature que sont Pierre Kroll et Jean Plantu\, nous découvrirons les coulisses du dessin de presse\, son histoire\, son rôle\, son actualité et ses perspectives d’avenir. La critique par l’humour\, un des éléments essentiels de la société démocratique\, que cela plaise ou non\, sera-t-elle un jour remise en cause par certains ? » \nRendez-vous le 2 mars 2026 à 18h00 au Théâtre de Liège. \nRéservations via la billetterie du Théâtre de Liège. \nTarif : 15€ (gratuit pour les membres cotisants et les étudiants de – 26 ans).
URL:https://poledesconferences.be/event/pierre-kroll-et-jean-plantu-le-dessin-de-presse/
LOCATION:Théâtre de Liège\, Place du XX Août 16\, Liège\, Liège\, 4000\, Belgium
CATEGORIES:Art et Culture,Société et sciences humaines
ATTACH;FMTTYPE=image/webp:https://poledesconferences.be/wp-content/uploads/2025/10/20260302-kroll-plantu.webp
ORGANIZER;CN="L'Alliance Fran%C3%A7aise":MAILTO:info@afliege.be
END:VEVENT
END:VCALENDAR