BEGIN:VCALENDAR
VERSION:2.0
PRODID:-//Pôle des conférences - ECPv6.15.20//NONSGML v1.0//EN
CALSCALE:GREGORIAN
METHOD:PUBLISH
X-WR-CALNAME:Pôle des conférences
X-ORIGINAL-URL:https://poledesconferences.be
X-WR-CALDESC:Évènements pour Pôle des conférences
REFRESH-INTERVAL;VALUE=DURATION:PT1H
X-Robots-Tag:noindex
X-PUBLISHED-TTL:PT1H
BEGIN:VTIMEZONE
TZID:UTC
BEGIN:STANDARD
TZOFFSETFROM:+0000
TZOFFSETTO:+0000
TZNAME:UTC
DTSTART:20250101T000000
END:STANDARD
END:VTIMEZONE
BEGIN:VEVENT
DTSTART;TZID=UTC:20260202T200000
DTEND;TZID=UTC:20260202T220000
DTSTAMP:20260420T183901
CREATED:20260129T141440Z
LAST-MODIFIED:20260129T141440Z
UID:10000137-1770062400-1770069600@poledesconferences.be
SUMMARY:Migrations et mobilité à l'ère illibérale
DESCRIPTION:« Les migrations et la mobilité des êtres humains sur la surface terrestre sont constitutives de l’histoire de l’humanité. Les raisons qui les expliquent sont multiples\, variées et enchevêtrées (démographiques\, culturelles\, politiques\, économiques\, climatiques\, conflits armés\, discriminations subies\, etc.). Tout porte à croire que ces réalités vont rester importantes à l’avenir même s’il faut le rappeler\, seule une petite minorité des humains choisissent ou sont contraints à l’exil\, entre 4 et 7% de la population mondiale. \nIl est aujourd’hui indispensable d’examiner quels sont les impacts du déclin de la démocratie et de ses valeurs\, dont le respect des droits humains\, causé par des mouvements et des régimes politiques autoritaires\, dictatoriaux et illibéraux\, sur la reconfiguration des schémas migratoires et de mobilité-immobilité à l’échelle planétaire […]. » \nRendez-vous le 2 février 2026 dès 20h au Centre Culturel de Verviers – Espace Duesberg. \nParticipation gratuite mais inscription indispensable.
URL:https://poledesconferences.be/event/migrations-et-mobilite-a-lere-illiberale/
LOCATION:Centre Culturel de Verviers – Espace Duesberg\, Boulevard des Gérardchamps 7C\, Verviers\, Liège\, 4800\, Belgium
CATEGORIES:Société et sciences humaines
ATTACH;FMTTYPE=image/jpeg:https://poledesconferences.be/wp-content/uploads/2026/01/th-1024x0-2025-2026-verviers-agenda_2026-02-02-migrations.jpg.jpg
END:VEVENT
END:VCALENDAR