BEGIN:VCALENDAR
VERSION:2.0
PRODID:-//Pôle des conférences - ECPv6.15.20//NONSGML v1.0//EN
CALSCALE:GREGORIAN
METHOD:PUBLISH
X-ORIGINAL-URL:https://poledesconferences.be
X-WR-CALDESC:Évènements pour Pôle des conférences
REFRESH-INTERVAL;VALUE=DURATION:PT1H
X-Robots-Tag:noindex
X-PUBLISHED-TTL:PT1H
BEGIN:VTIMEZONE
TZID:UTC
BEGIN:STANDARD
TZOFFSETFROM:+0000
TZOFFSETTO:+0000
TZNAME:UTC
DTSTART:20240101T000000
END:STANDARD
END:VTIMEZONE
BEGIN:VEVENT
DTSTART;TZID=UTC:20251215T140000
DTEND;TZID=UTC:20251215T160000
DTSTAMP:20260420T215906
CREATED:20251030T092736Z
LAST-MODIFIED:20251030T092736Z
UID:10000058-1765807200-1765814400@poledesconferences.be
SUMMARY:Juger les algorithmes malveillants ? L'avenir de la protection juridictionnelle des individus face à l'IA "préjudiciable"
DESCRIPTION:« Avec l’essor de l’Intelligence Artificielle (IA)\, on observe l’émergence des systèmes sophistiqués d’apprentissage autonome (Machine Learning – ML)\, capables de résoudre des problèmes par la classification\, l’optimisation\, la perception et le raisonnement inférentiel. Bien que salués pour leur précision dans le traitement de grandes quantités de données\, la pratique montre que ces systèmes peuvent aussi causer des dommages sans que les agents humains (programmeurs et utilisateurs) puissent expliquer comment ces dommages se sont produits. Une voiture Tesla a renversé un piéton ; un algorithme de trading a effectué des opérations d’investissement illégales ; un algorithme de recrutement a été discriminatoire à l’égard des femmes ; un algorithme d’évaluation du crédit s’est avéré discriminatoire sur le fondement de l’appartenance ethnique ; un système de suivi des employés a violé leur droit à la vie privée en accédant à leurs courriers électroniques sans leur consentement… A première vue\, il s’agit d’exemples classiques de préjudices pour lesquels la plupart des systèmes juridiques contemporains prévoient des actions en réparation. Toutefois\, lorsqu’un préjudice est causé par un système non-humain\, agissant de manière autonome et sans motif discernable\, l’efficacité desdites actions se trouve réduite. En effet\, lorsqu’un dommage est occasionné par l’utilisation d’une IA\, les justiciables se trouvent souvent dans l’impossibilité d’accéder à des faits probatoires pertinents\, qui leur permettraient de démontrer l’existence du dommage\, le lien de causalité ainsi que la présence et le degré d’intervention humaine dans la survenance du préjudice […]. » \nRendez-vous le 15 décembre 2025 de 14h00 à 16h00 dans la Salle de l’ancienne Intermosane à Verviers. \nTarifs : \n\n2\,50€ pour les membres de Verts & Vifs et des Amis de l’ULiège.\n5€ pour les non membres.\nGratuit pour les étudiants.
URL:https://poledesconferences.be/event/juger-les-algorithmes-malveillants-lavenir-de-la-protection-juridictionnelle-des-individus-face-a-lia-prejudiciable/
LOCATION:Salle de l’Ancienne Intermosane\, 2 Rue du Pont de Somneville\, Verviers\, Liège\, 4800\, Belgium
CATEGORIES:Intelligence artificielle,Société et sciences humaines
ATTACH;FMTTYPE=image/jpeg:https://poledesconferences.be/wp-content/uploads/2025/10/th-1024x0-pexels-markus_spiske.jpg.jpg
END:VEVENT
BEGIN:VEVENT
DTSTART;TZID=UTC:20251215T180000
DTEND;TZID=UTC:20251215T180000
DTSTAMP:20260420T215906
CREATED:20251024T080901Z
LAST-MODIFIED:20251103T100932Z
UID:10000039-1765821600-1765821600@poledesconferences.be
SUMMARY:Pascal Boniface - Les bouleversements du monde
DESCRIPTION:« En cette période particulièrement troublée où les valeurs prônées par l’Occident depuis 80 ans sont remises en cause\, Pascal Boniface\, Directeur de l’institut des relations internationales et stratégiques\, écrivain et géopoliticien […]\, nous entretiendra de ce monde en pleine mutation. » \nRendez-vous le 15 décembre 2025 à 18h dans la Salle Philharmonique de Liège. \nRéservations via la billetterie du Théâtre de Liège. \nTarif : 15€ (gratuit pour les membres cotisants et les étudiants de -26 ans). \nNotre réception de fin d’année clôturera cette conférence. 
URL:https://poledesconferences.be/event/pascal-boniface-les-bouleversements-du-monde/
LOCATION:Salle Philharmonique de Liège\, Boulevard Piercot\, 25-27\, Liège\, Liège\, 4000\, Belgium
CATEGORIES:Société et sciences humaines
ATTACH;FMTTYPE=image/webp:https://poledesconferences.be/wp-content/uploads/2025/10/20251215-pascal-boniface.webp
ORGANIZER;CN="L'Alliance Fran%C3%A7aise":MAILTO:info@afliege.be
END:VEVENT
END:VCALENDAR