BEGIN:VCALENDAR
VERSION:2.0
PRODID:-//Pôle des conférences - ECPv6.15.20//NONSGML v1.0//EN
CALSCALE:GREGORIAN
METHOD:PUBLISH
X-WR-CALNAME:Pôle des conférences
X-ORIGINAL-URL:https://poledesconferences.be
X-WR-CALDESC:Évènements pour Pôle des conférences
REFRESH-INTERVAL;VALUE=DURATION:PT1H
X-Robots-Tag:noindex
X-PUBLISHED-TTL:PT1H
BEGIN:VTIMEZONE
TZID:UTC
BEGIN:STANDARD
TZOFFSETFROM:+0000
TZOFFSETTO:+0000
TZNAME:UTC
DTSTART:20240101T000000
END:STANDARD
END:VTIMEZONE
BEGIN:VEVENT
DTSTART;TZID=UTC:20251203T190000
DTEND;TZID=UTC:20251203T210000
DTSTAMP:20260420T201640
CREATED:20251013T083812Z
LAST-MODIFIED:20251014T071858Z
UID:10000019-1764788400-1764795600@poledesconferences.be
SUMMARY:La mobilité en région liégeoise\, nouveaux enjeux\, nouvelles priorités.
DESCRIPTION:Avec : \n\nJacques TELLER\, professeur à l’Université de Liège\nJean-Marie BECKER\, consultant\n\nRendez-vous le Mercredi 03 décembre 2025. \nAccueil dès 18H30.\nConférence à 19h00 suivie d’un drink. \nInscription obligatoire via :\ninfo@legrandliege.be\n+32 470 90 48 95
URL:https://poledesconferences.be/event/la-mobilite-en-region-liegeoise-nouveaux-enjeux-nouvelles-priorites/
LOCATION:Au Bocholtz\, Place Saint-Michel 80\, Liège\, Liège\, 4000\, Belgium
CATEGORIES:Environnement et transition,Société et sciences humaines
ATTACH;FMTTYPE=image/png:https://poledesconferences.be/wp-content/uploads/2025/10/La-mobilite-en-region-liegeoise-nouveaux-enjeux-nouvelles-priorites-03.12.2025.png
END:VEVENT
BEGIN:VEVENT
DTSTART;TZID=UTC:20251205T130000
DTEND;TZID=UTC:20251205T143000
DTSTAMP:20260420T201640
CREATED:20251125T081146Z
LAST-MODIFIED:20251125T081146Z
UID:10000112-1764939600-1764945000@poledesconferences.be
SUMMARY:Trajectoires et accompagnement des femmes sans domicile
DESCRIPTION:« Si à partir du milieu des années 2010\, la question du sans-domicilisme féminin devient un problème public puis un enjeu politique\, les femmes sans domicile sont longtemps restées dans l’ombre de ‘la question SDF’… Les études montrent l’absence de prise en compte des questions de genre dans les politiques publiques et l’intervention sociale et invitent à repenser les catégories d’analyse de la pauvreté et des exclusions… » \nRendez-vous le 5 décembre 2025 à 13h00 au Campus du Sart Tilman – Bâtiment B33 – Trifac 1. \nGratuit\, inscription obligatoire.
URL:https://poledesconferences.be/event/trajectoires-et-accompagnement-des-femmes-sans-domicile/
LOCATION:Campus du Sart-Tilman – Bâtiment B33 – Trifac 1\, Place des Orateurs 1\, Liège\, Liège\, 4000\, Belgium
CATEGORIES:Société et sciences humaines
ATTACH;FMTTYPE=image/jpeg:https://poledesconferences.be/wp-content/uploads/2025/11/th-1024x0-femme_sans_abri.jpg.jpg
END:VEVENT
BEGIN:VEVENT
DTSTART;TZID=UTC:20251209T163000
DTEND;TZID=UTC:20251209T180000
DTSTAMP:20260420T201640
CREATED:20251105T090355Z
LAST-MODIFIED:20251105T090355Z
UID:10000103-1765297800-1765303200@poledesconferences.be
SUMMARY:OPIC : les institutions culturelles face aux enjeux économiques
DESCRIPTION:Ce cycle de conférences\, ouvert à tous mais organisé dans le cadre du cours d’Observatoire des Politiques et des Institutions Culturelles (OPIC) du département Média\, Culture et Communication de l’Université de Liège\, vise à donner la parole à des acteurs et des analystes du monde des politiques et des institutions culturelles afin de comprendre\, par ces regards variés\, leur fonctionnement et les enjeux qui les entourent. \n« Cette année\, les conférences aborderont en particulier la question des interactions entre les univers culturels et économiques\, à travers des angles divers et des intervenants issus d’horizons variés (journalisme\, industries culturelles et créatives\, organismes publics\, etc.). » \nRendez-vous le 9 décembre 2025 à 16h30 au Centre de Ressources du B3. \nGratuit.
URL:https://poledesconferences.be/event/opic-les-institutions-culturelles-face-aux-enjeux-economiques-2/
LOCATION:Centre de Ressources du B3\, Place des Arts\, Liège\, Liège\, 4020\, Belgium
CATEGORIES:Art et Culture,Société et sciences humaines
ATTACH;FMTTYPE=image/jpeg:https://poledesconferences.be/wp-content/uploads/2025/11/th-1024x0-opic.jpg.jpg
END:VEVENT
BEGIN:VEVENT
DTSTART;TZID=UTC:20251209T183000
DTEND;TZID=UTC:20251209T200000
DTSTAMP:20260420T201640
CREATED:20251013T082559Z
LAST-MODIFIED:20251014T071916Z
UID:10000017-1765305000-1765310400@poledesconferences.be
SUMMARY:La science\, ses pires alliés et ses meilleurs ennemis
DESCRIPTION:Avec Laurence BOUQUIAUX\, mathématicienne et docteur en philosophie. \nRendez-vous le Mardi 09 décembre 2025. \nAccueil dès 18h00.\nConférence à 18h30. \nInscription obligatoire via :\ninfo@legrandliege.be\n+32 470 90 48 95
URL:https://poledesconferences.be/event/la-science-ses-pires-allies-et-ses-meilleurs-ennemis/
LOCATION:Au Bocholtz\, Place Saint-Michel 80\, Liège\, Liège\, 4000\, Belgium
CATEGORIES:Sciences et technologies,Société et sciences humaines
ATTACH;FMTTYPE=image/png:https://poledesconferences.be/wp-content/uploads/2025/10/La-science-ses-pires-allies-et-ses-meilleurs-ennemis-09.12.2025.png
END:VEVENT
BEGIN:VEVENT
DTSTART;TZID=UTC:20251210T120000
DTEND;TZID=UTC:20251210T140000
DTSTAMP:20260420T201640
CREATED:20251016T075818Z
LAST-MODIFIED:20251016T075818Z
UID:10000037-1765368000-1765375200@poledesconferences.be
SUMMARY:Se questionner face aux changements à venir de nos territoires : le serious game\, un outil pertinent ?
DESCRIPTION:Cette conférence\, initialement prévue le 14 octobre\, est reportée au 10 décembre. \n« Nous faisons face à une époque faite d’incertitudes\, exigeant de se questionner en profondeur sur de nombreux sujets complexes tels que l’énergie\, la mobilité\, les pratiques agricoles\, l’aménagement des territoires face aux risques liés aux changements climatiques ou encore la vulnérabilité des infrastructures. Cette époque est aussi celle de l’héritage de l’existant négatif\, matériel et immatériel\, comme les sols pollués\, les déchets PFAS et nucléaires\, les particules de CO2\, etc.\, particulièrement visibles dans les territoires post-industriels comme la Wallonie. » \nOrateurs: \n\nCéline Parotte\, Professeure (Faculté de Droit\, de Science Politique et de Criminologie\, Spiral\, ULiège)\nMerlin Tieleman\, Doctorant (Faculté de Droit\, de Science Politique et de Criminologie\, Spiral\, ULiège)\nPierre Van Steenberghe\, Systémicien Spécialisé dans les Processus de Transition et de Renoncement (TerraLab)\n\nObjectifs de développement durable : \n   \nRendez-vous le 10 décembre 2025 de 12h00 à 14h00 au Val Benoît – Bâtiment Génie Civil. \nLunch inclus. \nTarif réduit applicable aux étudiants et au personnel des universités et hautes écoles : 30€. \nTarif normal : 38€. \nCette conférence est hébergée au Val Benoît\, dans le cadre de notre partenariat avec SPI. \n \n 
URL:https://poledesconferences.be/event/se-questionner-face-aux-changements-a-venir-de-nos-territoires-le-serious-game-un-outil-pertinent/
LOCATION:Val Benoît – Génie Civil\, Quai Banning 6\, Liège\, Liège\, 4000\, Belgium
CATEGORIES:Immobilier et urbanisme,Société et sciences humaines
ATTACH;FMTTYPE=image/jpeg:https://poledesconferences.be/wp-content/uploads/2025/10/thumbnail_Photo-site-web-14-10-25.jpg
END:VEVENT
BEGIN:VEVENT
DTSTART;TZID=UTC:20251211T171500
DTEND;TZID=UTC:20251211T190000
DTSTAMP:20260420T201640
CREATED:20251030T091932Z
LAST-MODIFIED:20251030T091932Z
UID:10000057-1765473300-1765479600@poledesconferences.be
SUMMARY:Le transhumanisme en 2025 : nouvelle religion\, utopie et réalités ?
DESCRIPTION:« La quête de l’immortalité est déjà évoquée dans l’Epopée de Gilgamesh vers 2.560 avant J.-C. en Mésopotamie. Durant l’Antiquité\, le besoin de dépassement de soi apparaît dans les devises olympiques ‘Citius\, altius\, fortis et magis’. Les notions de fontaine de jouvence et d’élixir de longue vie fleuriront aussi dans nombre d’écrits du Moyen-Âge. Il faudra néanmoins attendre le XVIIIe siècle\, avec Nicolas de Condorcet et Auguste Compte (positivisme)\, pour que le progrès scientifique soit déclaré comme nécessaire au perfectionnement de l’Homme. \nAvant la 2e guerre mondiale\, Julian Huxley (1887-1975) prône l’eugénisme dans un sens positif mais les dérives de l’eugénisme nazi l’obligent à abandonner ce projet. En 1957\, il introduit le terme de transhumanisme dans son essai Religion sans révélation\, soit une religion humaniste écartant toute référence à Dieu\, qui n’est selon lui qu’une pure création de l’imagination humaine. \nLa déclaration transhumaniste de la World Transhumanist Association (WTA\, H+) ne date que de 2009. Elle prône l’usage des sciences et des techniques (nanotechnologies\, biotechnologies\, informatique et sciences cognitives – NBIC) dans le but d’améliorer l’espèce humaine\, en augmentant les performances physiques et mentales de l’Homme. Elle considère en outre certains aspects inhérents à la condition humaine tels que le handicap\, la maladie\, le vieillissement ou la mort comme inutiles ou indésirables. C’est bien sûr à ce titre que le transhumanisme inquiète… » \nRendez-vous le 11 décembre 2025 de 17h15 à 19h00 dans l’Auditoire de l’Ancien Institut d’Anatomie/Institut Supérieur des Langues Vivantes (ISLV). \nTarifs : \n\n2\,50€ pour les membres des Amis de l’ULiège et les seniors de la Ville.\n5€ pour les non membres.\nGratuit pour les étudiants de – 25 ans et les demandeurs d’emploi.
URL:https://poledesconferences.be/event/le-transhumanisme-en-2025-nouvelle-religion-utopie-et-realites/
LOCATION:Auditoire de l’Ancien Institut d’Anatomie / ISLV\, Rue de Pitteurs 20\, Liège\, Liège\, 4020\, Belgium
CATEGORIES:Société et sciences humaines
ATTACH;FMTTYPE=image/jpeg:https://poledesconferences.be/wp-content/uploads/2025/10/th-1024x0-1280x720_transhumanisme_pexels.jpg.jpg
END:VEVENT
BEGIN:VEVENT
DTSTART;TZID=UTC:20251215T140000
DTEND;TZID=UTC:20251215T160000
DTSTAMP:20260420T201640
CREATED:20251030T092736Z
LAST-MODIFIED:20251030T092736Z
UID:10000058-1765807200-1765814400@poledesconferences.be
SUMMARY:Juger les algorithmes malveillants ? L'avenir de la protection juridictionnelle des individus face à l'IA "préjudiciable"
DESCRIPTION:« Avec l’essor de l’Intelligence Artificielle (IA)\, on observe l’émergence des systèmes sophistiqués d’apprentissage autonome (Machine Learning – ML)\, capables de résoudre des problèmes par la classification\, l’optimisation\, la perception et le raisonnement inférentiel. Bien que salués pour leur précision dans le traitement de grandes quantités de données\, la pratique montre que ces systèmes peuvent aussi causer des dommages sans que les agents humains (programmeurs et utilisateurs) puissent expliquer comment ces dommages se sont produits. Une voiture Tesla a renversé un piéton ; un algorithme de trading a effectué des opérations d’investissement illégales ; un algorithme de recrutement a été discriminatoire à l’égard des femmes ; un algorithme d’évaluation du crédit s’est avéré discriminatoire sur le fondement de l’appartenance ethnique ; un système de suivi des employés a violé leur droit à la vie privée en accédant à leurs courriers électroniques sans leur consentement… A première vue\, il s’agit d’exemples classiques de préjudices pour lesquels la plupart des systèmes juridiques contemporains prévoient des actions en réparation. Toutefois\, lorsqu’un préjudice est causé par un système non-humain\, agissant de manière autonome et sans motif discernable\, l’efficacité desdites actions se trouve réduite. En effet\, lorsqu’un dommage est occasionné par l’utilisation d’une IA\, les justiciables se trouvent souvent dans l’impossibilité d’accéder à des faits probatoires pertinents\, qui leur permettraient de démontrer l’existence du dommage\, le lien de causalité ainsi que la présence et le degré d’intervention humaine dans la survenance du préjudice […]. » \nRendez-vous le 15 décembre 2025 de 14h00 à 16h00 dans la Salle de l’ancienne Intermosane à Verviers. \nTarifs : \n\n2\,50€ pour les membres de Verts & Vifs et des Amis de l’ULiège.\n5€ pour les non membres.\nGratuit pour les étudiants.
URL:https://poledesconferences.be/event/juger-les-algorithmes-malveillants-lavenir-de-la-protection-juridictionnelle-des-individus-face-a-lia-prejudiciable/
LOCATION:Salle de l’Ancienne Intermosane\, 2 Rue du Pont de Somneville\, Verviers\, Liège\, 4800\, Belgium
CATEGORIES:Intelligence artificielle,Société et sciences humaines
ATTACH;FMTTYPE=image/jpeg:https://poledesconferences.be/wp-content/uploads/2025/10/th-1024x0-pexels-markus_spiske.jpg.jpg
END:VEVENT
BEGIN:VEVENT
DTSTART;TZID=UTC:20251215T180000
DTEND;TZID=UTC:20251215T180000
DTSTAMP:20260420T201640
CREATED:20251024T080901Z
LAST-MODIFIED:20251103T100932Z
UID:10000039-1765821600-1765821600@poledesconferences.be
SUMMARY:Pascal Boniface - Les bouleversements du monde
DESCRIPTION:« En cette période particulièrement troublée où les valeurs prônées par l’Occident depuis 80 ans sont remises en cause\, Pascal Boniface\, Directeur de l’institut des relations internationales et stratégiques\, écrivain et géopoliticien […]\, nous entretiendra de ce monde en pleine mutation. » \nRendez-vous le 15 décembre 2025 à 18h dans la Salle Philharmonique de Liège. \nRéservations via la billetterie du Théâtre de Liège. \nTarif : 15€ (gratuit pour les membres cotisants et les étudiants de -26 ans). \nNotre réception de fin d’année clôturera cette conférence. 
URL:https://poledesconferences.be/event/pascal-boniface-les-bouleversements-du-monde/
LOCATION:Salle Philharmonique de Liège\, Boulevard Piercot\, 25-27\, Liège\, Liège\, 4000\, Belgium
CATEGORIES:Société et sciences humaines
ATTACH;FMTTYPE=image/webp:https://poledesconferences.be/wp-content/uploads/2025/10/20251215-pascal-boniface.webp
ORGANIZER;CN="L'Alliance Fran%C3%A7aise":MAILTO:info@afliege.be
END:VEVENT
END:VCALENDAR