BEGIN:VCALENDAR
VERSION:2.0
PRODID:-//Pôle des conférences - ECPv6.15.20//NONSGML v1.0//EN
CALSCALE:GREGORIAN
METHOD:PUBLISH
X-WR-CALNAME:Pôle des conférences
X-ORIGINAL-URL:https://poledesconferences.be
X-WR-CALDESC:Évènements pour Pôle des conférences
REFRESH-INTERVAL;VALUE=DURATION:PT1H
X-Robots-Tag:noindex
X-PUBLISHED-TTL:PT1H
BEGIN:VTIMEZONE
TZID:UTC
BEGIN:STANDARD
TZOFFSETFROM:+0000
TZOFFSETTO:+0000
TZNAME:UTC
DTSTART:20240101T000000
END:STANDARD
END:VTIMEZONE
BEGIN:VEVENT
DTSTART;TZID=UTC:20251017T120000
DTEND;TZID=UTC:20251017T140000
DTSTAMP:20260420T232336
CREATED:20251014T090506Z
LAST-MODIFIED:20251014T090506Z
UID:10000024-1760702400-1760709600@poledesconferences.be
SUMMARY:Digitalisation et évolution des métiers : comment anticiper et accompagner
DESCRIPTION:« Les organisations\, tous secteurs confondus\, sont aujourd’hui confrontées à un même défi\, quels que soient leur taille\, leur histoire ou leur niveau d’avancement technologique : il s’agit d’intégrer la digitalisation dans leurs métiers… ». \nOrateurs : \n\nFrédéric Naedenoen\, Chargé de Cours (HEC Liège\, ULiège)\nDominique Maréchal\, Talent Manager (Prayon)\nGeoffroy Jennes\, Ingénieur Digitalisation 4.0 (Safran Blade)\nDr Gaëtan Letesson\, Chef de Service de Médecine Nucléaire\, Pôle Médical (Citadelle Hôpital)\n\nRendez-vous le 17 octobre 2025 de 12h00 à 14h00 chez RISE – Liège Science Park. \nLunch inclus. \nTarif réduit applicable aux étudiants et au personnel des universités et hautes écoles : 30€. \nTarif normal : 38€. \nCette rencontre-conférence sera suivie\, le 5 décembre 2025 de 12h30 à 16h30\, d’un Atelier « Transition vers l’industrie 4.0 : comment construire le changement dans les PME industrielles ? »\n👉 Plus d’infos
URL:https://poledesconferences.be/event/digitalisation-et-evolution-des-metiers-comment-anticiper-et-accompagner/
LOCATION:RISE – Liège Science Park\, Avenue Pré Aily 4\, Angleur\, Liège\, 4031\, Belgium
CATEGORIES:Société et sciences humaines
ATTACH;FMTTYPE=image/jpeg:https://poledesconferences.be/wp-content/uploads/2025/10/digitalisation.jpg
END:VEVENT
BEGIN:VEVENT
DTSTART;TZID=UTC:20251020T190000
DTEND;TZID=UTC:20251020T210000
DTSTAMP:20260420T232336
CREATED:20251013T083156Z
LAST-MODIFIED:20251013T121646Z
UID:10000018-1760986800-1760994000@poledesconferences.be
SUMMARY:Les Belles Liégeoises
DESCRIPTION:Avec : \n\nVirginie JAMIN\, fondatrice de la Cité école vivante\nFanny CAPRASSE et Camille DELVOYE\, coordinatrices de SMI-LE (équipe médicale mobile)\nPatricia ALEN\, co-autrice du Cartoville de Liège (éditions Gallimard)\nJenny GUTMANN\, photographe\n\nAnimation par Maïté WARLAND\, journaliste. \nRendez-vous le Lundi 20 octobre 2025. \nAccueil dès 18h30.\nConférence à 19h00 suivie d’un drink. \nInscription obligatoire via :\ninfo@legrandliege.be\n+32 470 90 48 95
URL:https://poledesconferences.be/event/les-belles-liegeoises/
LOCATION:Au Bocholtz\, Place Saint-Michel 80\, Liège\, Liège\, 4000\, Belgium
CATEGORIES:Art et Culture,Société et sciences humaines
ATTACH;FMTTYPE=image/png:https://poledesconferences.be/wp-content/uploads/2025/10/Les-Belles-Liegeoises-20.10.2025.png
END:VEVENT
END:VCALENDAR