BEGIN:VCALENDAR
VERSION:2.0
PRODID:-//Pôle des conférences - ECPv6.15.20//NONSGML v1.0//EN
CALSCALE:GREGORIAN
METHOD:PUBLISH
X-WR-CALNAME:Pôle des conférences
X-ORIGINAL-URL:https://poledesconferences.be
X-WR-CALDESC:Évènements pour Pôle des conférences
REFRESH-INTERVAL;VALUE=DURATION:PT1H
X-Robots-Tag:noindex
X-PUBLISHED-TTL:PT1H
BEGIN:VTIMEZONE
TZID:UTC
BEGIN:STANDARD
TZOFFSETFROM:+0000
TZOFFSETTO:+0000
TZNAME:UTC
DTSTART:20250101T000000
END:STANDARD
END:VTIMEZONE
BEGIN:VEVENT
DTSTART;TZID=UTC:20260205T120000
DTEND;TZID=UTC:20260205T140000
DTSTAMP:20260420T183537
CREATED:20260108T100433Z
LAST-MODIFIED:20260108T100433Z
UID:10000117-1770292800-1770300000@poledesconferences.be
SUMMARY:Technologies immersives : quels impacts sur l'expérience des utilisateur·trices ?
DESCRIPTION:« Les technologies immersives proposent de nouvelles façons de percevoir et d’expérimenter le monde. Ces dispositifs intégrant la réalité virtuelle\, augmentée\, mixte… créent des expériences simulées perçues comme étonnamment réelles\, ouvrant de nouvelles possibilités de résultats. \nQuels sont les impacts réels des technologies immersives sur l’expérience des utilisateur·trices ? Comment ces outils deviennent-ils de véritables leviers au service d’objectifs commerciaux\, culturels ou pédagogiques ? \nLors de cette rencontre-conférence\, nous explorerons la diversité des usages de ces technologies\, à travers une approche croisée et pluridisciplinaire\, et des projets concrets tels qu’un projet visant à créer 200 avatars historiques pour célébrer les 200 ans de la Belgique en 2030\, des expériences en réalité virtuelle au sein d’un grand monument historique français et d’une grande enseigne commercial ou encore les jumeaux numériques à l’Aéroport de Liège. \nAussi\, un focus sera mis sur le résultat de projets de recherche ayant analysé les impacts concrets de ces dispositifs sur leurs utilisateur·trices\, ouvrant un espace de réflexion collective sur leurs enjeux sociétaux. » \nOrateurs : \n\nMichaël SCHYNS\, professeur ordinaire (HEC Liège\, Research\, Business Analytics & Supply Chain\, ULiège)\nLaurence DESSART\, professeure (HEC Liège\, Research\, Strategic Marketing Innovation\, ULiège)\nAlain GALLEZ\, fondateur (Stereopsia Europe)\n\nRendez-vous le 5 février 2026 de 12h00 à 14h00 au Val Benoît – Batîment du Génie Civil – Salle Kintaikyo. \nTarifs : \n\n38€\n30€ pour les étudiants et le personnel des universités et hautes écoles.\n\nLunch inclus. \nCette conférence est hébergée au Val Benoît dans le cadre de notre partenariat avec SPI. \n \n 
URL:https://poledesconferences.be/event/technologies-immersives-quels-impacts-sur-lexperience-des-utilisateur%c2%b7trices/
LOCATION:Val Benoît – Génie Civil\, Quai Banning 6\, Liège\, Liège\, 4000\, Belgium
CATEGORIES:Economie et politique,Sciences et technologies
ATTACH;FMTTYPE=image/jpeg:https://poledesconferences.be/wp-content/uploads/2026/01/stephanie-berbec-XzFnQVbKFQ4-unsplash.jpg
END:VEVENT
BEGIN:VEVENT
DTSTART;TZID=UTC:20260210T120000
DTEND;TZID=UTC:20260210T140000
DTSTAMP:20260420T183537
CREATED:20251016T070454Z
LAST-MODIFIED:20251104T123439Z
UID:10000032-1770724800-1770732000@poledesconferences.be
SUMMARY:Pratiques de normalisation dans les organismes de recherche : bénéfices\, fantasmes et critiques
DESCRIPTION:« Comment les normes peuvent-elles structurer l’action publique et le monde de la recherche sans en figer la créativité ? Quels bénéfices concrets et quelles limites soulève leur mise en oeuvre dans des services universitaires ? Cette conférence proposera une exploration nuancée des enjeux liés à la normalisation dans le secteur public\, en croisant les regards de trois intervenant·es. » \nOrateurs : \n\nCatherine Fallon\, Professeure Honoraire (Faculté de Droit\, de Science Politique et de Criminologie\, Dpt de Science Politique\, ULiège) et Ancienne Directrice (Spiral\, ULiège)\nVéornique Beauvois\, Maître de Conférences et Ingénieure (Faculté des Sciences Appliquées\, ULiège)\nDidier Mattivi\, Directeur (RISE\, ULiège)\n\nRendez-vous le 10 février 2026 de 12h00 à 14h00 chez RISE – Liège Science Park. \nLunch inclus. \nTarif réduit applicable aux étudiants et au personnel des universités et hautes écoles : 30€. \nTarif normal : 30€. \n 
URL:https://poledesconferences.be/event/pratiques-de-normalisation-dans-les-organismes-de-recherche-benefices-fantasmes-et-critiques/
LOCATION:RISE – Liège Science Park\, Avenue Pré Aily 4\, Angleur\, Liège\, 4031\, Belgium
CATEGORIES:Sciences et technologies
ATTACH;FMTTYPE=image/png:https://poledesconferences.be/wp-content/uploads/2025/10/thumbnail_Certification.png
END:VEVENT
BEGIN:VEVENT
DTSTART;TZID=UTC:20260212T120000
DTEND;TZID=UTC:20260212T140000
DTSTAMP:20260420T183537
CREATED:20260108T103314Z
LAST-MODIFIED:20260108T103314Z
UID:10000119-1770897600-1770904800@poledesconferences.be
SUMMARY:Usages de la réalité virtuelle en santé et bien-être : apports\, limites et acceptabilité
DESCRIPTION:« Depuis le début des années 2000\, la réalité virtuelle s’est progressivement imposée comme un outil innovant dans de nombreux secteurs\, dont celui de la santé et du bien-être\, y compris dans le monde du travail. \nLors de cette rencontre-conférence\, nous explorerons trois cas d’usage concrets distincts à partir d’applications spécifiques. Cette approche croisée permettra de mettre en évidence que la technologie n’est pas une fin en soi\, mais bien un levier au service de différents objectifs […]. \nCette rencontre visera à croiser les perspectives des chercheur·euses et des praticien·nes afin d’évaluer les apports\, les limites et l’acceptation de ces technologies par les acteurs. Entre empathie\, contrôle de l’environnement\, activation comportementale et prévention\, les différents leviers de la réalité virtuelle seront discutés afin de guider tout un chacun vers les bons choix de support technologique. » \nOrateurs : \n\nAnne-Marie ETIENNE\, professeure ordinaire (faculté de Psychologie\, Logopédie et Sciences de l’Education\, RUCHE\, ULiège).\nAudrey VANHEUDENHUYSE\, docteure neuropsychologue (Centre Interdisciplinaire d’Algologie\, CHU de Liège et Conscious Care Labo\, GIGA Consciousness\, ULiège).\nJérôme VAN LIDTH\, trainer-coach & facilitator (Human Capital Academy).\n\nRendez-vous le 12 février 2026 de 12h00 à 14h00 chez RISE – Liège Science Park. \nTarifs : \n\n38€\n30€ pour les étudiants et pour le personnel des universités et hautes écoles.\n\nLunch inclus. \nA l’issue de la conférence\, les différents dispositifs de réalité virtuelle pourront être testés par les participant·es qui le souhaitent. \nObjectifs de développement durable :
URL:https://poledesconferences.be/event/usages-de-la-realite-virtuelle-en-sante-et-bien-etre-apports-limites-et-acceptabilite/
LOCATION:RISE – Liège Science Park\, Avenue Pré Aily 4\, Angleur\, Liège\, 4031\, Belgium
CATEGORIES:Santé et médecine,Sciences et technologies
ATTACH;FMTTYPE=image/png:https://poledesconferences.be/wp-content/uploads/2026/01/Gemini_Generated_Image_afcxwvafcxwvafcx_OK.png
END:VEVENT
BEGIN:VEVENT
DTSTART;TZID=UTC:20260219T183000
DTEND;TZID=UTC:20260219T203000
DTSTAMP:20260420T183537
CREATED:20260115T103842Z
LAST-MODIFIED:20260120T081755Z
UID:10000132-1771525800-1771533000@poledesconferences.be
SUMMARY:La biotech liégeoise\, un écosystème en expansion
DESCRIPTION:Orateurs : \n\nAmel TOUNSI\, directrice de Bridge To Health\nIsabelle DEGAND\, CEO du Légia Park\nGauthier PHILIPPART\, CEO et Trasis\n\nRendez-vous le 19 février 2026 à 18h30 au Légia Park. \nInscription obligatoire.
URL:https://poledesconferences.be/event/la-biotech-liegeoise-un-ecosysteme-en-expansion/
LOCATION:Légia Park\, Boulevard Patience et Beaujonc 3\, Liège\, Liège\, 4000\, Belgium
CATEGORIES:Sciences et technologies
ATTACH;FMTTYPE=image/png:https://poledesconferences.be/wp-content/uploads/2026/01/Design-sans-titre.png
END:VEVENT
BEGIN:VEVENT
DTSTART;TZID=UTC:20260226T170000
DTEND;TZID=UTC:20260226T190000
DTSTAMP:20260420T183537
CREATED:20251031T090106Z
LAST-MODIFIED:20251031T090106Z
UID:10000074-1772125200-1772132400@poledesconferences.be
SUMMARY:De l'art à l'atmosphère : comment les modèles de diffusion transforment la météo
DESCRIPTION:« Cette présentation explorera l’impact des grands modèles d’intelligence artificielle dans les sciences du climat et de la météo. Nous verrons d’abord comment GenCast et d’autres modèles d’IA ont transformé les prévisions météorologiques en améliorant leur précision et leur rapidité. Nous présenterons ensuite Airbender\, notre grand modèle de diffusion vidéo pour l’assimilation de données météorologiques et les prévisions à court terme. Entraîné sur des données atmosphériques mondiales (ERA5)\, ce système crée des représentations détaillées de l’atmosphère et peut intégrer différents types d’observations pour améliorer les prévisions et l’analyse du temps. Nous démontrerons ainsi comment les modèles de diffusion\, initialement développés pour des applications artistiques et créatives\, deviennent aujourd’hui des outils puissants pour comprendre et prévoir les phénomènes météorologiques à l’échelle mondiale. » \nRendez-vous le 26 février 2026 de 17h00 à 19h00 dans l’Auditoire de l’Ancien Institut d’Anatomie/Institut Supérieur des Langues Vivantes (ISLV). \nTarifs : \n\n2\,50€ pour les membres des Amis de l’ULiège et les seniors de la Ville.\n5€ pour les non membres.\nGratuit pour les étudiants et les demandeurs d’emploi.
URL:https://poledesconferences.be/event/de-lart-a-latmosphere-comment-les-modeles-de-diffusion-transforment-la-meteo/
LOCATION:Auditoire de l’Ancien Institut d’Anatomie / ISLV\, Rue de Pitteurs 20\, Liège\, Liège\, 4020\, Belgium
CATEGORIES:Intelligence artificielle,Sciences et technologies
ATTACH;FMTTYPE=image/png:https://poledesconferences.be/wp-content/uploads/2025/10/th-1024x0-climat_et_ai_pixabay.jpg.png.png
END:VEVENT
END:VCALENDAR