BEGIN:VCALENDAR
VERSION:2.0
PRODID:-//Pôle des conférences - ECPv6.15.20//NONSGML v1.0//EN
CALSCALE:GREGORIAN
METHOD:PUBLISH
X-ORIGINAL-URL:https://poledesconferences.be
X-WR-CALDESC:Évènements pour Pôle des conférences
REFRESH-INTERVAL;VALUE=DURATION:PT1H
X-Robots-Tag:noindex
X-PUBLISHED-TTL:PT1H
BEGIN:VTIMEZONE
TZID:UTC
BEGIN:STANDARD
TZOFFSETFROM:+0000
TZOFFSETTO:+0000
TZNAME:UTC
DTSTART:20250101T000000
END:STANDARD
END:VTIMEZONE
BEGIN:VEVENT
DTSTART;TZID=UTC:20260602T120000
DTEND;TZID=UTC:20260602T140000
DTSTAMP:20260421T153809
CREATED:20260421T111426Z
LAST-MODIFIED:20260421T111426Z
UID:10000163-1780401600-1780408800@poledesconferences.be
SUMMARY:Inventions dans le domaine de l'intelligence artificielle et protection brevet
DESCRIPTION:« Comment protéger une invention intégrant de l’intelligence artificielle (IA) ? Ya-t-il de la matière brevetable ou faut-il davantage se tourner vers le droit d’auteur et la stratégie du secret d’affaire ? Pourquoi choisir la voie du brevet plutôt qu’une autre ? Peut-on combiner différentes stratégies de protection ? Les inventions avec de l’IA bénéficient-elles d’un traitement particulier ? Y a-t-il des spécificités dans la protection brevet de telles inventions ? Quelle protection pour quel type d’IA ? Cette rencontre-conférence proposera d’éclairer cette problématique centrale en partant des fondamentaux de la protection de la propriété intellectuelle puis en les déclinant pour les inventions dans le domaine de l’IA […]. » \nOrateurs : \n\nPauline ANSION\, Avocate au Barreau de Liège-Huy & Assistante en Droit de la Propriété Intellectuelle (Faculté de Droit\, de Science Politique et de Criminologie\, ULiège).\nSamuel DENIS\, European Patent Attorney & Partner (GEVERS).\nPaul-André GOLLIER\, European and Belgian Patent Attorney (AWA Benelux).\n\nTarifs : \n\n38€\n30€ (tarif réduit applicable aux étudiants et au personnel des hautes écoles et universités).\n\nLunch inclus.
URL:https://poledesconferences.be/event/inventions-dans-le-domaine-de-lintelligence-artificielle-et-protection-brevet/
LOCATION:Val Benoît – Génie Civil\, Quai Banning 6\, Liège\, Liège\, 4000\, Belgium
CATEGORIES:Industrie & développement,Intelligence artificielle
ATTACH;FMTTYPE=image/jpeg:https://poledesconferences.be/wp-content/uploads/2026/04/alex-shuper-7zBfueafrVI-unsplash-scaled.jpg
END:VEVENT
END:VCALENDAR