BEGIN:VCALENDAR
VERSION:2.0
PRODID:-//Pôle des conférences - ECPv6.15.20//NONSGML v1.0//EN
CALSCALE:GREGORIAN
METHOD:PUBLISH
X-ORIGINAL-URL:https://poledesconferences.be
X-WR-CALDESC:Évènements pour Pôle des conférences
REFRESH-INTERVAL;VALUE=DURATION:PT1H
X-Robots-Tag:noindex
X-PUBLISHED-TTL:PT1H
BEGIN:VTIMEZONE
TZID:UTC
BEGIN:STANDARD
TZOFFSETFROM:+0000
TZOFFSETTO:+0000
TZNAME:UTC
DTSTART:20240101T000000
END:STANDARD
END:VTIMEZONE
BEGIN:VEVENT
DTSTART;TZID=UTC:20251103T140000
DTEND;TZID=UTC:20251103T160000
DTSTAMP:20260423T153154
CREATED:20251024T085218Z
LAST-MODIFIED:20251024T085218Z
UID:10000042-1762178400-1762185600@poledesconferences.be
SUMMARY:L'intelligence artificielle\, le nouveau scalpel de la médecine
DESCRIPTION:« L’intégration de l’intelligence artificielle (IA) dans les soins de santé n’est pas simplement une évolution mais une révolution en marche qui redéfinit fondamentalement la pratique médicale. Alors que nous explorons son parcours\, des débuts modestes jusqu’à son expansion actuelle\, il est clair que l’IA médicale représente bien plus qu’un simple outil\, c’est une nouvelle frontière de la médecine contemporaine. » \nRendez-vous le 3 novembre 2025 de 14h00 à 16h00 dans la Salle de l’Ancienne Intermosane à Verviers. \nTarifs : \n\n2\,50€ pour les membres de Verts et Vifs et les membres des Amis de l’ULiège).\n5€ pour les non membres.\nGratuit pour les étudiants.\n\nInscriptions obligatoires au Centre Culturel de Verviers via 087 93 90 60 ou via www.ccverviers.be
URL:https://poledesconferences.be/event/lintelligence-artificielle-le-nouveau-scalpel-de-la-medecine/
LOCATION:Salle de l’Ancienne Intermosane\, 2 Rue du Pont de Somneville\, Verviers\, Liège\, 4800\, Belgium
CATEGORIES:Intelligence artificielle,Santé et médecine
ATTACH;FMTTYPE=image/jpeg:https://poledesconferences.be/wp-content/uploads/2025/10/th-1024x0-gerd_altmann_-_pixabay.jpg.jpg
END:VEVENT
BEGIN:VEVENT
DTSTART;TZID=UTC:20251117T140000
DTEND;TZID=UTC:20251117T160000
DTSTAMP:20260423T153154
CREATED:20251024T091913Z
LAST-MODIFIED:20251024T091913Z
UID:10000046-1763388000-1763395200@poledesconferences.be
SUMMARY:L'intelligence artificielle au cinéma - machines hostiles
DESCRIPTION:« Le développement de l’intelligence artificielle dans l’industrie du cinéma touche désormais bien plus que le secteur des effets spéciaux : montage\, doublage\, réalisation et même interprétation. Si la technologie fascine\, elle suscite aussi de nombreuses inquiétudes dans les cercles professionnels. L’encadrement de l’intelligence artificielle dans le cinéma et la télévision est d’ailleurs un des motifs majeurs qui avait entraîné la grève des acteurs et scénaristes à Hollywood en 2023. » \nCe module est organisé avec les soutiens : \n\nde l’ULiège et de son service communication\nde la Ville de Verviers\, son Echevinat de la culture\, son Echevinat de l’égalité des chances\, le Centre Culturel de Verviers\, Verts & Vifs\ndes Amis de l’Université de LIège.\n\nRendez-vous le 17 novembre 2025 de 14h00 à 16h00 dans la Salle de l’Ancienne Intermosane à Verviers. \nTarifs : \n\n2\,50€ pour les membres de Verts & Vifs et des Amis de l’Université de Liège.\n5€ pour les non membres.\nGratuit pour les étudiants.\n\nInscriptions obligatoires au Centre Culturel de Verviers via le 087 39 30 60 ou via www.ccverviers.be.
URL:https://poledesconferences.be/event/lintelligence-artificielle-au-cinema-machines-hostiles/
LOCATION:Salle de l’Ancienne Intermosane\, 2 Rue du Pont de Somneville\, Verviers\, Liège\, 4800\, Belgium
CATEGORIES:Art et Culture,Intelligence artificielle
ATTACH;FMTTYPE=image/jpeg:https://poledesconferences.be/wp-content/uploads/2025/10/th-1024x0-7_mars_2024-4.jpg.jpg
END:VEVENT
BEGIN:VEVENT
DTSTART;TZID=UTC:20251124T140000
DTEND;TZID=UTC:20251124T160000
DTSTAMP:20260423T153154
CREATED:20251024T095708Z
LAST-MODIFIED:20251024T095708Z
UID:10000049-1763992800-1764000000@poledesconferences.be
SUMMARY:Intelligences artificielles génératives et conception architecturale
DESCRIPTION:« Les IA génératives\, qu’elles visent la génération de textes\, d’images ou autres artefacts\, se multiplient et rencontrent actuellement un grand succès médiatique. Dans cette présentation\, on s’interrogera sur leurs développements et leurs impacts sur la pratique de l’architecture\, un domaine qui doit répondre à de nombreuses contraintes\, autant sociales qu’urbaines\, environnementales et énergétiques. Quelles perspectives lui ouvre l’IA ? Et quels changements sont à prévoir pour le métier d’architecte ? » \nCe module est organisé avec les soutiens : \n\nde l’ULiège et de son service communication\nde la Ville de Verviers\, son Echevinat de la culture\, son Echevinat de l’égalité des chances\, le Centre Culturel de Verviers\, Verts & Vifs\ndes Amis de l’Université de Liège.\n\nRendez-vous le 24 novembre 2025 de 14h00 à 16h00 dans la Salle de l’Ancienne Intermosane à Verviers. \nTarifs : \n\n2\,50€ pour les membres de Verts et Vifs et des Amis de l’ULiège.\n5€ pour les non membres.\nGratuit pour les étudiants.\n\nInscriptions obligatoires au Centre Culturel de Verviers via le 087 39 30 60 ou via www.ccverviers.be.
URL:https://poledesconferences.be/event/intelligences-artificielles-generatives-et-conception-architecturale/
LOCATION:Salle de l’Ancienne Intermosane\, 2 Rue du Pont de Somneville\, Verviers\, Liège\, 4800\, Belgium
CATEGORIES:Immobilier et urbanisme,Intelligence artificielle
ATTACH;FMTTYPE=image/jpeg:https://poledesconferences.be/wp-content/uploads/2025/10/th-1024x0-wal_172619_-_pixabay.jpg.jpg
END:VEVENT
END:VCALENDAR