BEGIN:VCALENDAR
VERSION:2.0
PRODID:-//Pôle des conférences - ECPv6.15.20//NONSGML v1.0//EN
CALSCALE:GREGORIAN
METHOD:PUBLISH
X-ORIGINAL-URL:https://poledesconferences.be
X-WR-CALDESC:Évènements pour Pôle des conférences
REFRESH-INTERVAL;VALUE=DURATION:PT1H
X-Robots-Tag:noindex
X-PUBLISHED-TTL:PT1H
BEGIN:VTIMEZONE
TZID:UTC
BEGIN:STANDARD
TZOFFSETFROM:+0000
TZOFFSETTO:+0000
TZNAME:UTC
DTSTART:20240101T000000
END:STANDARD
END:VTIMEZONE
BEGIN:VEVENT
DTSTART;TZID=UTC:20260331T120000
DTEND;TZID=UTC:20260331T140000
DTSTAMP:20260420T181909
CREATED:20260108T141252Z
LAST-MODIFIED:20260108T141252Z
UID:10000128-1774958400-1774965600@poledesconferences.be
SUMMARY:Les opportunités qu'offre un fleuve à son Territoire
DESCRIPTION:« Longtemps perçu comme une contrainte géographique ou une simple infrastructure logistique\, le fleuve s’affirme aujourd’hui comme le levier majeur de la métamorphose d’une ville. Cette rencontre vous invite à explorer comment l’eau redessine nos modes de vie et nos stratégies urbaines […]. \nOrateurs : \n\nJoël PRIVOT\, urbaniste et chercheur (faculté des Sciences Appliquées\, ArGEnCo\, ULiège).\nFrançois PRÜM\, développeur (Rives Ardentes).\n\nRendez-vous le 31 mars 2026 de 12h00 à 14h00 au Val Benoît – Bâtiment du Génie Civil. \nTarifs : \n\n38€\n30€ pour les étudiants et pour le personnel des universités et hautes écoles.\n\nLunch inclus. \nCette conférence est hébergée au Val Benoît\, dans le cadre de notre partenariat avec SPI. \n \nObjectifs de développement durable :
URL:https://poledesconferences.be/event/les-opportunites-quoffre-un-fleuve-a-son-territoire/
LOCATION:Val Benoît – Génie Civil\, Quai Banning 6\, Liège\, Liège\, 4000\, Belgium
CATEGORIES:Environnement et transition,Immobilier et urbanisme
ATTACH;FMTTYPE=image/jpeg:https://poledesconferences.be/wp-content/uploads/2026/01/Illu-5-site-web-scaled-e1767881556684.jpg
END:VEVENT
BEGIN:VEVENT
DTSTART;TZID=UTC:20260320T120000
DTEND;TZID=UTC:20260320T140000
DTSTAMP:20260420T181909
CREATED:20260108T135000Z
LAST-MODIFIED:20260108T135000Z
UID:10000125-1774008000-1774015200@poledesconferences.be
SUMMARY:Plante invasive : comment gérer la présence de la renouée du Japon dans les projets de construction ?
DESCRIPTION:« La renouée du Japon pose de nombreux défis aux projets d’aménagement et de construction. Comment cette plante\, introduite à des fins ornementales\, est-elle devenue un problème majeur pour nos infrastructures et la réhabilitation de sites ? \nEn croisant les regards du terrain et de la recherche\, cette conférence propose d’explorer la problématique de la renouée du Japon en abordant tant ses spécificités botaniques que les problèmes qu’elle engendre et les solutions existantes. \nCe sera aussi l’occasion\, à travers plusieurs études de cas\, d’évoquer les solutions de gestion et de contrôle de la propagation de la renouée du Japon à privilégier\, pour éviter des surcoûts importants. » \nOrateurs : \n\nArnaud MONTY\, chargé de cours (Gembloux Agro-Bio Tech\, Biodiversité\, Ecosystème et Paysage\, ULiège).\nSimon GARZANITI\, attaché pôle Sol et Déchets (ISSeP).\nChristophe LECLERCQ\, coordinateur de projets (SPI).\nMarta POPOVA\, gestionnaire de projets (SPAQUE).\n\nRendez-vous le 20 mars 2026 de 12h00 à 14h00 chez RISE – Liège Science Park. \nTarifs : \n\n38€\n30€ pour les étudiants et pour le personnel des universités et hautes écoles.\n\nLunch inclus. \nObjectifs de développement durable :
URL:https://poledesconferences.be/event/plante-invasive-comment-gerer-la-presence-de-la-renouee-du-japon-dans-les-projets-de-construction/
LOCATION:RISE – Liège Science Park\, Avenue Pré Aily 4\, Angleur\, Liège\, 4031\, Belgium
CATEGORIES:Environnement et transition,Immobilier et urbanisme
ATTACH;FMTTYPE=image/jpeg:https://poledesconferences.be/wp-content/uploads/2026/01/ries-bosch-RLTPexSZ67M-unsplash-scaled.jpg
END:VEVENT
BEGIN:VEVENT
DTSTART;TZID=UTC:20260319T120000
DTEND;TZID=UTC:20260319T140000
DTSTAMP:20260420T181909
CREATED:20260108T133642Z
LAST-MODIFIED:20260108T133642Z
UID:10000124-1773921600-1773928800@poledesconferences.be
SUMMARY:Bâtir pour le bien vieillir : comment nos lieux de vie façonnent la santé et l'autonomie des aîné·es
DESCRIPTION:Le vieillissement de la population pose des enjeux majeurs en matière de santé\, d’architecture du territoire. Alors que les aîné·es présentent des besoins de plus en plus spécifiques\, comprendre comment le logement\, le quartier et les infrastructures influencent leur santé\, leur bien-être et leur autonomie devient essentiel. \nCette conférence explorera les liens entre environnement de vie et vieillissement en bonne santé\, en mobilisant des approches issues de l’ingénierie architecturale et des sciences médicales. Elle mettra en lumière l’impact d’espaces bâtis et non bâtis de différentes échelles – du domicile aux espaces publics\, en passant par les systèmes de soins – sur le bien-être des personnes âgées. \nA partir d’exemple concrets et de résultats de recherches pluridisciplinaires\, les intervenant·es proposeront des pistes d’action pour créer des milieux de vie adaptés et stimulants pour toutes et tous. \nOrateurs : \n\nCatherine ELSEN\, professeure (Faculté des Sciences Appliquées\, ArGEnCo\, ULiège).\nClémentine SCHELINGS\, assistante (Faculté des Sciences Appliquées\, ArGEnCo\, ULiège).\nOlivier BRUYERE\, professeur (Faculté de Médecine\, URSAPES\, ULiège).\n\nRendez-vous le 19 mars 2026 de 12h00 à 14h00 chez RISE – Liège Science Park. \nTarifs : \n\n38€\n30€ pour les étudiants et pour le personnel des universités et hautes écoles.\n\nLunch inclus. \nObjectifs de développement durable :
URL:https://poledesconferences.be/event/batir-pour-le-bien-vieillir-comment-nos-lieux-de-vie-faconnent-la-sante-et-lautonomie-des-aine%c2%b7es/
LOCATION:RISE – Liège Science Park\, Avenue Pré Aily 4\, Angleur\, Liège\, 4031\, Belgium
CATEGORIES:Immobilier et urbanisme,Santé et médecine
ATTACH;FMTTYPE=image/jpeg:https://poledesconferences.be/wp-content/uploads/2026/01/micheile-henderson-PpZasS086os-unsplash-scaled-e1767879388341.jpg
END:VEVENT
BEGIN:VEVENT
DTSTART;TZID=UTC:20260306T120000
DTEND;TZID=UTC:20260306T140000
DTSTAMP:20260420T181909
CREATED:20260108T104600Z
LAST-MODIFIED:20260108T104600Z
UID:10000120-1772798400-1772805600@poledesconferences.be
SUMMARY:Usages énergétiques et matériaux innovants dans l'habitat demain
DESCRIPTION:« Dans un contexte de transition énergétique accélérée\, les pratiques domestiques connaissent une reconfiguration profonde\, marquant une évolution du rapport des habitant·es à l’énergie. L’habitat ne se limite plus à la consommation : il devient un espace de production\, de gestion et d’optimisation où l’usager occupe une position centrale. \nLa diffusion des dispositifs de production décentralisée\, notamment photovoltaïque\, s’accompagne de comportements plus sobres et d’une maîtrise accrue des usages : suivi de la production\, optimisation de l’autoconsommation\, recours au stockage domestique\, pilotage des équipements ou réduction des consommations non essentielles. \nCette mutation place l’occupant·e au coeur d’un modèle énergétique plus participatif et durable\, tout en ouvrant un champ d’innovation mobilisant technologies avancées\, approches low-tech et matériaux émergents. \nLa rencontre-conférence\, organisée en marge du LowTech Studio installé à l’Institut de Zoologie\, constituera une occasion privilégiée d’examiner l’habitat de demain sous l’angle des usages et des innovations dans le domaine de l’énergie. » \nOrateurs : \n\nCharlotte DAUTREMONT\, architecte écoconseillère\, postdoctorante et coordinatrice de projets de recherche (Faculté des Sciences Appliquées\, INTER’ACT\, ULiège).\nJennifer DEWALQUE\, assistante (Faculté des Sciences\, GREEnMat\, ULiège).\nBertrand CORNELUSSE\, professeur (faculté des Sciences Appliquées\, Smart-Microgrids\, ULiège).\nKevin JORIS\, directeur commercial & business developer (Azimut Energy).\n\nRendez-vous le 6 mars 2026 de 12h00 à 14h00 au Pôle de Formation en Langues (L5). \nTarifs : \n\n38€\n30€ pour les étudiants et pour le personnel des universités et hautes écoles.\n\nLunch inclus. \nUne visite du LowTech Studio sera organisée après la conférence\, de 14h00 à 15h00. Si vous souhaitez y prendre part\, veuillez adresser un email à info@liegecreative.be \nObjectifs de développement durable :
URL:https://poledesconferences.be/event/usages-energetiques-et-materiaux-innovants-dans-lhabitat-demain/
LOCATION:Pôle de Formation en Langues (L5)\, Rue de Pitteurs 18\, Liège\, Liège\, 4020\, Belgium
CATEGORIES:Environnement et transition,Immobilier et urbanisme
ATTACH;FMTTYPE=image/jpeg:https://poledesconferences.be/wp-content/uploads/2026/01/IMG_4573.jpeg
END:VEVENT
BEGIN:VEVENT
DTSTART;TZID=UTC:20260305T120000
DTEND;TZID=UTC:20260305T140000
DTSTAMP:20260420T181909
CREATED:20251014T095656Z
LAST-MODIFIED:20251104T123352Z
UID:10000029-1772712000-1772719200@poledesconferences.be
SUMMARY:S'appuyer sur une cartographie numérique des matériaux du bâti ancien pour réhabiliter autrement
DESCRIPTION:En partenariat avec Embuild \n« La Wallonie\, comme de nombreuses régions européennes\, fait face à un défi majeur : réhabiliter un parc résidentiel ancien\, souvent énergétiquement peu performant\, pour répondre aux objectifs climatiques et circulaires fixés à l’horizon 2050. Composé en grande partie de maisons unifamiliales construites avant 1914\, ce bâti génère une quantité importante de déchets lors des travaux de rénovation. Comment mieux connaître les matériaux qui composent ce patrimoine pour en favoriser le réemploi ? Comment transformer ces déchets en ressources ? » \nOrateurs : \n\nPierre Hallot\, Professeur (Faculté d’Architecture\, AAP\, ULiège)\nOphélie Noël\, Assistante (Faculté d’Architecture\, AAP\, ULiège)\nSamuel Dubois\, R&D Expert (Buildwise)\n\nObjectifs de développement durable : \n  \nRendez-vous le 5 mars 2026 de 12h00 à 14h00 chez Embuild. \nLunch inclus. \nTarif réduit applicable pour les étudiants et le personnel des universités et hautes écoles : 30€. \nTarif normal : 38€. \nCette conférence est hébergée chez Embuild à Herve\, dans le cadre de notre partenariat avec Embuild Verviers-Ostbelgien. 
URL:https://poledesconferences.be/event/sappuyer-sur-une-cartographie-numerique-des-materiaux-du-bati-ancien-pour-rehabiliter-autrement/
LOCATION:Embuild\, Avenue du Parc 42\, Herve\, Liège\, 4650\, Belgium
CATEGORIES:Environnement et transition,Immobilier et urbanisme
ATTACH;FMTTYPE=image/png:https://poledesconferences.be/wp-content/uploads/2025/10/thumbnail_GraphiqueColle-1.png
END:VEVENT
BEGIN:VEVENT
DTSTART;TZID=UTC:20251210T120000
DTEND;TZID=UTC:20251210T140000
DTSTAMP:20260420T181910
CREATED:20251016T075818Z
LAST-MODIFIED:20251016T075818Z
UID:10000037-1765368000-1765375200@poledesconferences.be
SUMMARY:Se questionner face aux changements à venir de nos territoires : le serious game\, un outil pertinent ?
DESCRIPTION:Cette conférence\, initialement prévue le 14 octobre\, est reportée au 10 décembre. \n« Nous faisons face à une époque faite d’incertitudes\, exigeant de se questionner en profondeur sur de nombreux sujets complexes tels que l’énergie\, la mobilité\, les pratiques agricoles\, l’aménagement des territoires face aux risques liés aux changements climatiques ou encore la vulnérabilité des infrastructures. Cette époque est aussi celle de l’héritage de l’existant négatif\, matériel et immatériel\, comme les sols pollués\, les déchets PFAS et nucléaires\, les particules de CO2\, etc.\, particulièrement visibles dans les territoires post-industriels comme la Wallonie. » \nOrateurs: \n\nCéline Parotte\, Professeure (Faculté de Droit\, de Science Politique et de Criminologie\, Spiral\, ULiège)\nMerlin Tieleman\, Doctorant (Faculté de Droit\, de Science Politique et de Criminologie\, Spiral\, ULiège)\nPierre Van Steenberghe\, Systémicien Spécialisé dans les Processus de Transition et de Renoncement (TerraLab)\n\nObjectifs de développement durable : \n   \nRendez-vous le 10 décembre 2025 de 12h00 à 14h00 au Val Benoît – Bâtiment Génie Civil. \nLunch inclus. \nTarif réduit applicable aux étudiants et au personnel des universités et hautes écoles : 30€. \nTarif normal : 38€. \nCette conférence est hébergée au Val Benoît\, dans le cadre de notre partenariat avec SPI. \n \n 
URL:https://poledesconferences.be/event/se-questionner-face-aux-changements-a-venir-de-nos-territoires-le-serious-game-un-outil-pertinent/
LOCATION:Val Benoît – Génie Civil\, Quai Banning 6\, Liège\, Liège\, 4000\, Belgium
CATEGORIES:Immobilier et urbanisme,Société et sciences humaines
ATTACH;FMTTYPE=image/jpeg:https://poledesconferences.be/wp-content/uploads/2025/10/thumbnail_Photo-site-web-14-10-25.jpg
END:VEVENT
BEGIN:VEVENT
DTSTART;TZID=UTC:20251124T140000
DTEND;TZID=UTC:20251124T160000
DTSTAMP:20260420T181910
CREATED:20251024T095708Z
LAST-MODIFIED:20251024T095708Z
UID:10000049-1763992800-1764000000@poledesconferences.be
SUMMARY:Intelligences artificielles génératives et conception architecturale
DESCRIPTION:« Les IA génératives\, qu’elles visent la génération de textes\, d’images ou autres artefacts\, se multiplient et rencontrent actuellement un grand succès médiatique. Dans cette présentation\, on s’interrogera sur leurs développements et leurs impacts sur la pratique de l’architecture\, un domaine qui doit répondre à de nombreuses contraintes\, autant sociales qu’urbaines\, environnementales et énergétiques. Quelles perspectives lui ouvre l’IA ? Et quels changements sont à prévoir pour le métier d’architecte ? » \nCe module est organisé avec les soutiens : \n\nde l’ULiège et de son service communication\nde la Ville de Verviers\, son Echevinat de la culture\, son Echevinat de l’égalité des chances\, le Centre Culturel de Verviers\, Verts & Vifs\ndes Amis de l’Université de Liège.\n\nRendez-vous le 24 novembre 2025 de 14h00 à 16h00 dans la Salle de l’Ancienne Intermosane à Verviers. \nTarifs : \n\n2\,50€ pour les membres de Verts et Vifs et des Amis de l’ULiège.\n5€ pour les non membres.\nGratuit pour les étudiants.\n\nInscriptions obligatoires au Centre Culturel de Verviers via le 087 39 30 60 ou via www.ccverviers.be.
URL:https://poledesconferences.be/event/intelligences-artificielles-generatives-et-conception-architecturale/
LOCATION:Salle de l’Ancienne Intermosane\, 2 Rue du Pont de Somneville\, Verviers\, Liège\, 4800\, Belgium
CATEGORIES:Immobilier et urbanisme,Intelligence artificielle
ATTACH;FMTTYPE=image/jpeg:https://poledesconferences.be/wp-content/uploads/2025/10/th-1024x0-wal_172619_-_pixabay.jpg.jpg
END:VEVENT
BEGIN:VEVENT
DTSTART;TZID=UTC:20251114T120000
DTEND;TZID=UTC:20251114T140000
DTSTAMP:20260420T181910
CREATED:20251014T093553Z
LAST-MODIFIED:20251014T093553Z
UID:10000027-1763121600-1763128800@poledesconferences.be
SUMMARY:Construction bois : comment conjuguer innovation et durabilité
DESCRIPTION:En partenariat avec Embuild et dans le cadre de la quinzaine du climat. \n« Face aux impératifs climatiques et à la nécessaire transition du secteur du bâtiment\, la construction bois s’impose comme une alternative porteuse. Mais comment garantir que cette filière soit réellement durable\, de la ressource à la mise en oeuvre ? Et comment innover sans compromettre les principes de circularité\, de sobriété et de résilience ? » \nOrateurs : \n\nJean-François Rondeaux\, R&D Expert (Buildwise) et Maître de Conférence Invité (Gembloux Agro-Bio-Tech\, ULiège)\nTom De Mil\, Chargé de Cours (Gembloux Agro-Bio-Tech\, ULiège) & Co-Chef de File (IIS Valbowal)\nFlorence Daube\, Administratrice (Hélum3 Architectures)\nPhilippe Justin\, CEO (Fabribois)\n\nObjectif de développement durable : \n \nRendez-vous le 14 novembre 2025 de 12h00 à 14h00 chez Embuild. \nLunch inclus. \nTarif réduit applicable pour les étudiants et le personnel des universités et hautes écoles : 30€. \nTarif normal : 38€. \nCette conférence est hébergée chez Embuild à Herve\, dans le cadre de notre partenariat avec Embuild Verviers-Ostbelgien. \n \nAvec le soutien de l’Initiative d’Innovation Stratégique Valbowal
URL:https://poledesconferences.be/event/construction-bois-comment-conjuguer-innovation-et-durabilite/
LOCATION:Embuild\, Avenue du Parc 42\, Herve\, Liège\, 4650\, Belgium
CATEGORIES:Environnement et transition,Immobilier et urbanisme
ATTACH;FMTTYPE=image/jpeg:https://poledesconferences.be/wp-content/uploads/2025/10/thumbnail_DSC_1195.jpg
END:VEVENT
BEGIN:VEVENT
DTSTART;TZID=UTC:20251106T120000
DTEND;TZID=UTC:20251106T140000
DTSTAMP:20260420T181910
CREATED:20251014T091303Z
LAST-MODIFIED:20251014T091303Z
UID:10000025-1762430400-1762437600@poledesconferences.be
SUMMARY:Quand l'environnement bâti soigne : dialogue entre architecture\, neurosciences et santé mentale
DESCRIPTION:« Comment notre environnement bâti influence-t-il notre santé mentale\, notre perception du monde et nos comportements quotidiens ? Et si nos lieux de vie étaient bien plus que des décors… mais de véritables co-auteurs de nos émotions\, de notre attention\, de notre bien-être ? » \nOrateurs : \n\nStéphane Adam\, Professeur Ordinaire (Faculté de Psychologie\, Logopédie et Sciences de l’Education\, ULiège)\nAlexandra Saunier-Kelleter\, Architecte Engagée (NeuroAu)\nLaurent Farcy\, Psychiatre\, Psychanalyste (Société Belge de Psychanalyse)\n\nObjectifs de développement durable : \n   \nRendez-vous le 06 novembre 2025 de 12h00 à 14h00 chez RISE – Liège Science Park. \nLunch inclus. \nTarif réduit applicable aux étudiants et au personnel des universités et hautes écoles : 30€. \nTarif normal : 38€.
URL:https://poledesconferences.be/event/quand-lenvironnement-bati-soigne-dialogue-entre-architecture-neurosciences-et-sante-mentale/
LOCATION:RISE – Liège Science Park\, Avenue Pré Aily 4\, Angleur\, Liège\, 4031\, Belgium
CATEGORIES:Immobilier et urbanisme,Santé et médecine
ATTACH;FMTTYPE=image/jpeg:https://poledesconferences.be/wp-content/uploads/2025/10/thumbnail_Photo-1.jpg
END:VEVENT
BEGIN:VEVENT
DTSTART;TZID=UTC:20251016T120000
DTEND;TZID=UTC:20251016T140000
DTSTAMP:20260420T181910
CREATED:20251014T090334Z
LAST-MODIFIED:20251014T090554Z
UID:10000023-1760616000-1760623200@poledesconferences.be
SUMMARY:Un projet urbain mixte au cœur de Liège : l'expérience Madeleine 4.0
DESCRIPTION:En partenariat avec Noshaq. \n« La projet urbain mixte Madeleine 4.0\, en plein cœur de Liège\, fait office de projet pionnier à plus d’un égard. \nComposé de commerces (610 m²)\, de bureaux (2240 m²) et de 16 unités d’habitations\, il est également équipé de plus de 60kWc de panneaux photovoltaïques. Ceux-ci doivent assurer une utilisation collective de l’énergie par les différents occupants du bâtiment… » \nOrateurs : \n\nJonas Lambert\, Architecte de Recherche\, Building Energy Monitoring and Simulation (Arlon Campus Environnement\, ULiège)\nThomas Chevau\, Directeur du Développement Immobilier (Noshaq)\nRemy Balegamire\, Project Manager (Cluster Tweed)\nCathy Crunelle\, Future Home Lab Manager (LABORELEC-Engie)\n\nRendez-vous le 16 octobre 2025 de 12h00 à 14h00 au Digilearn Studio by Forem. \nLunch inclus. \nTarif réduit pour les étudiants et le personnel des universités et hautes écoles : 30€. \nTarif normal : 38€. \nObjectifs de développement durable :
URL:https://poledesconferences.be/event/un-projet-urbain-mixte-au-coeur-de-liege-lexperience-madeleine-4-0/
LOCATION:Digilearn Studio by Forem\, Rue Souverain-Pont 33\, Liège\, Liège\, 4000\, Belgium
CATEGORIES:Environnement et transition,Immobilier et urbanisme
ATTACH;FMTTYPE=image/jpeg:https://poledesconferences.be/wp-content/uploads/2025/10/madeleine.jpg
END:VEVENT
END:VCALENDAR