BEGIN:VCALENDAR
VERSION:2.0
PRODID:-//Pôle des conférences - ECPv6.15.20//NONSGML v1.0//EN
CALSCALE:GREGORIAN
METHOD:PUBLISH
X-ORIGINAL-URL:https://poledesconferences.be
X-WR-CALDESC:Évènements pour Pôle des conférences
REFRESH-INTERVAL;VALUE=DURATION:PT1H
X-Robots-Tag:noindex
X-PUBLISHED-TTL:PT1H
BEGIN:VTIMEZONE
TZID:UTC
BEGIN:STANDARD
TZOFFSETFROM:+0000
TZOFFSETTO:+0000
TZNAME:UTC
DTSTART:20250101T000000
END:STANDARD
END:VTIMEZONE
BEGIN:VEVENT
DTSTART;TZID=UTC:20260512T120000
DTEND;TZID=UTC:20260512T140000
DTSTAMP:20260421T105809
CREATED:20260421T104624Z
LAST-MODIFIED:20260421T104624Z
UID:10000159-1778587200-1778594400@poledesconferences.be
SUMMARY:Rénovation\, réemploi : la conception des projets de construction en pleine mutation
DESCRIPTION:« La conception des projets de construction est aujourd’hui en pleine mutation. Architectes\, bureaux d’études et maîtres d’ouvrage doivent désormais prendre en considération un nouvel enjeu de taille : la durabilité. Pour répondre à cet objectif ambitieux\, des efforts significatifs ont déjà été réalisés ces dernières années par l’ensemble du secteur de la construction afin de favoriser la rénovation\, la recyclabilité\, de réduire l’utilisation de matières premières\, d’optimiser la conception des structures… \nCependant\, des actions supplémentaires restent nécessaires pour continuer à réduire les émissions de carbone et l’une des stratégies les plus prometteuses pour accompagner cette transition consiste à promouvoir la réutilisation des éléments structuraux via\, notamment\, des conceptions de structures […]. » \nOrateurs : \n\nJean-François DEMONCEAU\, Chargé de Cours (Faculté des Sciences Appliquées\, Urban and Environmental Engineering\, ULiège).\nJulie DESEMBERG\, Ingénieur Structure (Bureau Greisch)\nMathieu LEROY\, Ingénieur Durabilité (Bureau Greisch)\n\nTarifs : \n\n38€\n30€ (tarif réduit applicable aux étudiants et au personnel des universités et hautes écoles).\n\nLunch inclus.
URL:https://poledesconferences.be/event/renovation-reemploi-la-conception-des-projets-de-construction-en-pleine-mutation/
LOCATION:Bureau Greisch\, Allée des Noisetiers 25\, Angleur\, Liège\, 4031\, Belgium
CATEGORIES:Environnement et transition,Immobilier et urbanisme
ATTACH;FMTTYPE=image/jpeg:https://poledesconferences.be/wp-content/uploads/2026/04/Vue-charpente-1.jpg
END:VEVENT
END:VCALENDAR