BEGIN:VCALENDAR
VERSION:2.0
PRODID:-//Pôle des conférences - ECPv6.15.20//NONSGML v1.0//EN
CALSCALE:GREGORIAN
METHOD:PUBLISH
X-WR-CALNAME:Pôle des conférences
X-ORIGINAL-URL:https://poledesconferences.be
X-WR-CALDESC:Évènements pour Pôle des conférences
REFRESH-INTERVAL;VALUE=DURATION:PT1H
X-Robots-Tag:noindex
X-PUBLISHED-TTL:PT1H
BEGIN:VTIMEZONE
TZID:UTC
BEGIN:STANDARD
TZOFFSETFROM:+0000
TZOFFSETTO:+0000
TZNAME:UTC
DTSTART:20250101T000000
END:STANDARD
END:VTIMEZONE
BEGIN:VEVENT
DTSTART;TZID=UTC:20260330T140000
DTEND;TZID=UTC:20260330T160000
DTSTAMP:20260420T153400
CREATED:20251031T095753Z
LAST-MODIFIED:20251031T095753Z
UID:10000085-1774879200-1774886400@poledesconferences.be
SUMMARY:L'Islam et les grandes civilisations de l'Antiquité : des origines aux dynamiques d'hégémonie mondiale
DESCRIPTION:Résumé à venir. \nRendez-vous le 30 mars 2026 de 14h00 à 16h00 à Verviers (lieu à préciser). \nTarifs : \n\n2\,50€ pour les membres de Verts & Vifs et des Amis de l’ULiège.\n5€ pour les non membres.\nGratuit pour les étudiants.
URL:https://poledesconferences.be/event/lislam-et-les-grandes-civilisations-de-lantiquite-des-origines-aux-dynamiques-dhegemonie-mondiale/
LOCATION:Liège
CATEGORIES:Histoire et culture
ATTACH;FMTTYPE=image/png:https://poledesconferences.be/wp-content/uploads/2025/10/th-1024x0-hegemonie_antiquite_islam1_redim.png.png
END:VEVENT
END:VCALENDAR