BEGIN:VCALENDAR
VERSION:2.0
PRODID:-//Pôle des conférences - ECPv6.15.20//NONSGML v1.0//EN
CALSCALE:GREGORIAN
METHOD:PUBLISH
X-ORIGINAL-URL:https://poledesconferences.be
X-WR-CALDESC:Évènements pour Pôle des conférences
REFRESH-INTERVAL;VALUE=DURATION:PT1H
X-Robots-Tag:noindex
X-PUBLISHED-TTL:PT1H
BEGIN:VTIMEZONE
TZID:UTC
BEGIN:STANDARD
TZOFFSETFROM:+0000
TZOFFSETTO:+0000
TZNAME:UTC
DTSTART:20250101T000000
END:STANDARD
END:VTIMEZONE
BEGIN:VEVENT
DTSTART;TZID=UTC:20260302T140000
DTEND;TZID=UTC:20260302T160000
DTSTAMP:20260420T170202
CREATED:20251031T090554Z
LAST-MODIFIED:20251031T090554Z
UID:10000075-1772460000-1772467200@poledesconferences.be
SUMMARY:La Lydie : entre gloire et fortune. Histoire d'un royaume à travers sa richesse\, sa monnaie et ses liens entre les Grecs et les royaumes orientaux.
DESCRIPTION:« Sous le règne de Crésus\, la Lydie s’imposait\, aux yeux des Grecs\, comme le plus opulent et puissant des royaumes. La dynastie des Mermnades (vers 680 – 547 av. J.-C.) marqua l’apogée de la Lydie\, illustrée par ses conquêtes militaires\, l’exploitation des gisements aurifères\, la domination des routes commerciales et ses alliances diplomatiques nouées avec ses voisins grecs et orientaux. Cette présentation retracera l’histoire du royaume lydien depuis ses origines jusqu’à la chute de Crésus devant les armées perses de Cyrus II le Grand. » \nRendez-vous le 2 mars 2026 de 14h00 à 16h00 à Verviers (lieu à préciser). \nTarifs : \n\n2\,50€ pour les membres de Verts & Vifs et des Amis de l’ULiège.\n5€ pour les non membres.\nGratuit pour les étudiants.
URL:https://poledesconferences.be/event/la-lydie-entre-gloire-et-fortune-histoire-dun-royaume-a-travers-sa-richesse-sa-monnaie-et-ses-liens-entre-les-grecs-et-les-royaumes-orientaux/
LOCATION:Liège
CATEGORIES:Histoire et culture
ATTACH;FMTTYPE=image/jpeg:https://poledesconferences.be/wp-content/uploads/2025/10/th-1024x0-17-p143left-medium.jpg.jpg
END:VEVENT
END:VCALENDAR