BEGIN:VCALENDAR
VERSION:2.0
PRODID:-//Pôle des conférences - ECPv6.15.20//NONSGML v1.0//EN
CALSCALE:GREGORIAN
METHOD:PUBLISH
X-WR-CALNAME:Pôle des conférences
X-ORIGINAL-URL:https://poledesconferences.be
X-WR-CALDESC:Évènements pour Pôle des conférences
REFRESH-INTERVAL;VALUE=DURATION:PT1H
X-Robots-Tag:noindex
X-PUBLISHED-TTL:PT1H
BEGIN:VTIMEZONE
TZID:UTC
BEGIN:STANDARD
TZOFFSETFROM:+0000
TZOFFSETTO:+0000
TZNAME:UTC
DTSTART:20250101T000000
END:STANDARD
END:VTIMEZONE
BEGIN:VEVENT
DTSTART;TZID=UTC:20260209T140000
DTEND;TZID=UTC:20260209T160000
DTSTAMP:20260420T183322
CREATED:20251030T104750Z
LAST-MODIFIED:20251030T104750Z
UID:10000070-1770645600-1770652800@poledesconferences.be
SUMMARY:A l'image des divinités : l'iconographie des dieux et déesses en Mésopotamie
DESCRIPTION:« Murs du palais\, sceaux-cylindres privés\, codes de lois\, dans les temples… En Mésopotamie\, les divinités étaient largement représentées\, mais leur forme variait selon le contexte. L’objectif de cette conférence est de comprendre comment identifier une divinité mésopotamienne et d’appréhender les variations au sein d’un corpus d’images s’étendant sur trois millénaires. » \nRendez-vous le 9 février 2026 de 14h00 à 16h00 à Verviers (lieu à préciser). \nTarifs : \n\n2\,50€ pour les membres de Verts & Vifs et des Amis de l’ULiège.\n5€ pour les non membres.\nGratuit pour les étudiants.
URL:https://poledesconferences.be/event/a-limage-des-divinites-liconographie-des-dieux-et-deesses-en-mesopotamie/
LOCATION:Liège
CATEGORIES:Histoire et culture
ATTACH;FMTTYPE=image/jpeg:https://poledesconferences.be/wp-content/uploads/2025/10/th-1024x0-3achouche_mesopotamie_archives_andre_parrot.jpg.jpg
END:VEVENT
END:VCALENDAR