BEGIN:VCALENDAR
VERSION:2.0
PRODID:-//Pôle des conférences - ECPv6.15.20//NONSGML v1.0//EN
CALSCALE:GREGORIAN
METHOD:PUBLISH
X-ORIGINAL-URL:https://poledesconferences.be
X-WR-CALDESC:Évènements pour Pôle des conférences
REFRESH-INTERVAL;VALUE=DURATION:PT1H
X-Robots-Tag:noindex
X-PUBLISHED-TTL:PT1H
BEGIN:VTIMEZONE
TZID:UTC
BEGIN:STANDARD
TZOFFSETFROM:+0000
TZOFFSETTO:+0000
TZNAME:UTC
DTSTART:20240101T000000
END:STANDARD
END:VTIMEZONE
BEGIN:VEVENT
DTSTART;TZID=UTC:20251118T160000
DTEND;TZID=UTC:20251118T180000
DTSTAMP:20260420T225834
CREATED:20251105T084501Z
LAST-MODIFIED:20251106T094053Z
UID:10000099-1763481600-1763488800@poledesconferences.be
SUMMARY:"Quand les élèves se révoltaient" : la démocratie\, l'affaire des jeunes ?
DESCRIPTION:« Manifestations contre la ségrégation raciale aux Etats-Unis\, mobilisations contre les inégalités sociales au Chili\, dénonciations de violences sexuelles en Inde ou encore luttes climatiques menées par des millions de jeunes au tournant des années 2000… Les révoltes d’élèves qui ont eu lieu ces dernières années partout dans le monde sont nombreuses. Le 18 novembre prochain\, politiste québécois Francis Dupuis-Déri reviendra sur l’histoire\, souvent méconnue\, des révoltes scolaires et étudiantes[…]. » \nRendez-vous le 18 novembre 2025 de 16h00 à 18h00 dans l’Amphithéâtre Tocqueville sur le Campus du Sart Tilman – B31. \n 
URL:https://poledesconferences.be/event/quand-les-eleves-se-revoltaient-la-democratie-laffaire-des-jeunes/
LOCATION:Amphithéâtre Tocqueville – Campus du Sart Tilman – B31\, Place des Orateurs\, Liège\, Liège\, 4000\, Belgium
CATEGORIES:Histoire et culture,Société et sciences humaines
ATTACH;FMTTYPE=image/jpeg:https://poledesconferences.be/wp-content/uploads/2025/11/th-1024x0-dupuis_deri_site.jpg.jpg
END:VEVENT
BEGIN:VEVENT
DTSTART;TZID=UTC:20251118T170000
DTEND;TZID=UTC:20251118T190000
DTSTAMP:20260420T225834
CREATED:20251024T093715Z
LAST-MODIFIED:20251024T093715Z
UID:10000047-1763485200-1763492400@poledesconferences.be
SUMMARY:De la victoire au pouvoir : les imperatores de la fin de la République vus à travers leurs monnaies
DESCRIPTION:Le dernier siècle de la Républiques romaine (133-31 av. J.-C.) est à la fois une époque de graves crises politiques et de grandes conquêtes qui eurent pour protagonistes des imperatores restés célèbres : Marius et Sylla\, Pompée et César\, Marc Antoine et Octavien-Auguste. Pour étudier la façon dont ces commandants exaltèrent leurs succès militaires et légitimèrent leur position de pouvoir\, les historiens ont à disposition une source d’information précieuse : la monnaie. La conférence présentera les monnayages frappés par et pour ces généraux et analysera les messages politiques véhiculés par les images et inscriptions monétaires. » \nRendez-vous le 18 novembre 2025 de 17h00 à 19h00 dans l’Auditoire de l’Ancien Institut d’Anatomie/Institut Supérieur des Langues Vivantes (ISLV). \nTarifs: \n\n2\,50€ pour les membres des Amis de l’ULiège ou des seniors de la Ville.\n5€ pour les non membres.\nGratuit pour les étudiants de – 25 ans et les demandeurs d’emploi.\n\n 
URL:https://poledesconferences.be/event/de-la-victoire-au-pouvoir-les-imperatores-de-la-fin-de-la-republique-vus-a-travers-leurs-monnaies/
LOCATION:Auditoire de l’Ancien Institut d’Anatomie / ISLV\, Rue de Pitteurs 20\, Liège\, Liège\, 4020\, Belgium
CATEGORIES:Histoire et culture,Société et sciences humaines
ATTACH;FMTTYPE=image/jpeg:https://poledesconferences.be/wp-content/uploads/2025/10/th-1024x0-1280x720_monnaie_freepik_redim.jpg.jpg
END:VEVENT
END:VCALENDAR