BEGIN:VCALENDAR
VERSION:2.0
PRODID:-//Pôle des conférences - ECPv6.15.20//NONSGML v1.0//EN
CALSCALE:GREGORIAN
METHOD:PUBLISH
X-ORIGINAL-URL:https://poledesconferences.be
X-WR-CALDESC:Évènements pour Pôle des conférences
REFRESH-INTERVAL;VALUE=DURATION:PT1H
X-Robots-Tag:noindex
X-PUBLISHED-TTL:PT1H
BEGIN:VTIMEZONE
TZID:UTC
BEGIN:STANDARD
TZOFFSETFROM:+0000
TZOFFSETTO:+0000
TZNAME:UTC
DTSTART:20250101T000000
END:STANDARD
END:VTIMEZONE
BEGIN:VEVENT
DTSTART;TZID=UTC:20260209T140000
DTEND;TZID=UTC:20260209T160000
DTSTAMP:20260420T165505
CREATED:20251030T104750Z
LAST-MODIFIED:20251030T104750Z
UID:10000070-1770645600-1770652800@poledesconferences.be
SUMMARY:A l'image des divinités : l'iconographie des dieux et déesses en Mésopotamie
DESCRIPTION:« Murs du palais\, sceaux-cylindres privés\, codes de lois\, dans les temples… En Mésopotamie\, les divinités étaient largement représentées\, mais leur forme variait selon le contexte. L’objectif de cette conférence est de comprendre comment identifier une divinité mésopotamienne et d’appréhender les variations au sein d’un corpus d’images s’étendant sur trois millénaires. » \nRendez-vous le 9 février 2026 de 14h00 à 16h00 à Verviers (lieu à préciser). \nTarifs : \n\n2\,50€ pour les membres de Verts & Vifs et des Amis de l’ULiège.\n5€ pour les non membres.\nGratuit pour les étudiants.
URL:https://poledesconferences.be/event/a-limage-des-divinites-liconographie-des-dieux-et-deesses-en-mesopotamie/
LOCATION:Liège
CATEGORIES:Histoire et culture
ATTACH;FMTTYPE=image/jpeg:https://poledesconferences.be/wp-content/uploads/2025/10/th-1024x0-3achouche_mesopotamie_archives_andre_parrot.jpg.jpg
END:VEVENT
BEGIN:VEVENT
DTSTART;TZID=UTC:20260210T170000
DTEND;TZID=UTC:20260210T190000
DTSTAMP:20260420T165505
CREATED:20251030T105442Z
LAST-MODIFIED:20251030T105442Z
UID:10000071-1770742800-1770750000@poledesconferences.be
SUMMARY:La doctrine Harmel durant la guerre froide : un guide pour nos temps troublés ?
DESCRIPTION:« En décembre 1967\, Pierre Harmel\, alors Ministre des Affaires étrangères belge rédigeait un rapport pour le Conseil de l’Organisation du Traité de l’Atlantique Nord. Il s’agissait de tenter un exercice de réflexion sur l’avenir de l’Alliance. Il y était affirmé que le relâchement des tensions n’était pas l’objectif final. ‘Le but politique ultime de l’Alliance est de parvenir à un ordre pacifique\, juste et durable en Europe\, accompagné de garanties de sécurité appropriées’. Ce qu’on a appelé la doctrine Harmel consiste\, à l’international\, à prendre au sérieux les craintes des adversaires et\, à l’interne\, à assurer la prépondérance du politique sur le militaire. La définition d’une politique de défense et des conditions de coexistence pacifique a permis de mettre en place les phases d’apaisements successives\, menant à l’Acte final d’Helsinki\, point d’aboutissement de la Conférence sur la Sécurité et la coopération en Europe. En quoi cette définition d’une cohabitation à long terme et profitant aux différentes parties peut-elle être utilisée de notre temps ? » \nRendez-vous le 10 février 2026 de 17h00 à 19h00 au Grand Physique à Liège. \nTarifs : \n\n2\,50€ pour les membres des Amis de l’ULiège et les seniors de la Ville.\n5€ pour les non membres.\nGratuit pour les étudiants de – 25 ans et les demandeurs d’emploi.
URL:https://poledesconferences.be/event/la-doctrine-harmel-durant-la-guerre-froide-un-guide-pour-nos-temps-troubles/
LOCATION:Grand Physique\, Place du XX Août 7\, Liège\, Liège\, 4000\, Belgium
CATEGORIES:Histoire et culture,Société et sciences humaines
ATTACH;FMTTYPE=image/jpeg:https://poledesconferences.be/wp-content/uploads/2025/10/th-1024x0-pierreverjansredim.jpg.jpg
END:VEVENT
BEGIN:VEVENT
DTSTART;TZID=UTC:20260210T183000
DTEND;TZID=UTC:20260210T203000
DTSTAMP:20260420T165505
CREATED:20260115T103542Z
LAST-MODIFIED:20260115T103542Z
UID:10000131-1770748200-1770755400@poledesconferences.be
SUMMARY:Chanter sous la révolution : nuancer les lieux communs
DESCRIPTION:Orateur : Jean-Claude BOLOGNE\, écrivain et romancier. \nRendez-vous le 10 février 2026 à 18h30 au Bocholtz. \nInscription obligatoire. \n 
URL:https://poledesconferences.be/event/chanter-sous-la-revolution-nuancer-les-lieux-communs/
LOCATION:Au Bocholtz\, Place Saint-Michel 80\, Liège\, Liège\, 4000\, Belgium
CATEGORIES:Histoire et culture
ATTACH;FMTTYPE=image/jpeg:https://poledesconferences.be/wp-content/uploads/2026/01/h1075i2_1.jpg
END:VEVENT
BEGIN:VEVENT
DTSTART;TZID=UTC:20260212T173000
DTEND;TZID=UTC:20260212T190000
DTSTAMP:20260420T165505
CREATED:20260204T090911Z
LAST-MODIFIED:20260204T090911Z
UID:10000141-1770917400-1770922800@poledesconferences.be
SUMMARY:De la Terre du Milieu à la Cité ardente : Le Hobbit à l'Université de Liège
DESCRIPTION:« L’Université de Liège conserve l’un des très rares exemplaires de l’édition originale de 1937\, offert et dédicacé par J.R.R. Tolkien à la philologue belge Simonne d’Ardenne\, son ancienne étudiante à Oxford et amie proche de la famille. Cette signature raconte en réalité une histoire bien plus vaste : celle d’une relation intellectuelle et humaine qui relie la Terre du Milieu aux rives de la Meuse. » \nRendez-vous le 12 février 2026 à 17h30 aux Presses Universitaires de Liège. \nInscription obligatoire.
URL:https://poledesconferences.be/event/de-la-terre-du-milieu-a-la-cite-ardente-le-hobbit-a-luniversite-de-liege/
LOCATION:Presses Universitaires de Liège\, Place de la République Française 35\, Liège\, Liège\, 4000\, Belgium
CATEGORIES:Art et Culture,Histoire et culture
ATTACH;FMTTYPE=image/jpeg:https://poledesconferences.be/wp-content/uploads/2026/02/th-1024x0-0127_21.jpg.jpg
END:VEVENT
BEGIN:VEVENT
DTSTART;TZID=UTC:20260216T140000
DTEND;TZID=UTC:20260216T160000
DTSTAMP:20260420T165505
CREATED:20251030T110329Z
LAST-MODIFIED:20251030T110329Z
UID:10000073-1771250400-1771257600@poledesconferences.be
SUMMARY:La naissance et le développement de l'écriture dans le Proche-Orient antique : les nouvelles données iraniennes
DESCRIPTION:« Il est généralement bien connu que l’écriture est née à la fin du 4e millénaire avant J.-C. en Mésopotamie et en Egypte. Dans ce tableau proche-oriental\, le plateau iranien est très souvent ignoré. Cette conférence fera le point sur les dernières avancées concernant cette dernière région\, en abordant notamment les écritures proto-élamite (fin 4e millénaire av. J.-C.) et élamite linéaire (2300-1850 av. J.-C.)\, récemment déchiffrée. » \nRendez-vous le 16 février 2026 de 14h00 à 16h00 à Verviers (lieu à préciser). \nTarifs : \n\n2\,50€ pour les membres de Verts & Vifs et des Amis de l’ULiège.\n5€ pour les non membres.\nGratuit pour les étudiants.
URL:https://poledesconferences.be/event/la-naissance-et-le-developpement-de-lecriture-dans-le-proche-orient-antique-les-nouvelles-donnees-iraniennes/
LOCATION:Liège
CATEGORIES:Histoire et culture
ATTACH;FMTTYPE=image/jpeg:https://poledesconferences.be/wp-content/uploads/2025/10/th-1024x0-fig._2.jpg.jpg
END:VEVENT
END:VCALENDAR