BEGIN:VCALENDAR
VERSION:2.0
PRODID:-//Pôle des conférences - ECPv6.15.20//NONSGML v1.0//EN
CALSCALE:GREGORIAN
METHOD:PUBLISH
X-ORIGINAL-URL:https://poledesconferences.be
X-WR-CALDESC:Évènements pour Pôle des conférences
REFRESH-INTERVAL;VALUE=DURATION:PT1H
X-Robots-Tag:noindex
X-PUBLISHED-TTL:PT1H
BEGIN:VTIMEZONE
TZID:UTC
BEGIN:STANDARD
TZOFFSETFROM:+0000
TZOFFSETTO:+0000
TZNAME:UTC
DTSTART:20250101T000000
END:STANDARD
END:VTIMEZONE
BEGIN:VEVENT
DTSTART;TZID=UTC:20260205T170000
DTEND;TZID=UTC:20260205T190000
DTSTAMP:20260420T165407
CREATED:20251030T103203Z
LAST-MODIFIED:20251030T103203Z
UID:10000069-1770310800-1770318000@poledesconferences.be
SUMMARY:La viticulture en Belgique boostée par le réchauffement climatique ?
DESCRIPTION:« En Belgique\, la viticulture est souvent perçue comme un co-bénéfice du réchauffement climatique\, favorisant l’expansion rapide des surfaces plantées en vigne des dernières années. Mais ce phénomène est-il réellement aussi avantageux qu’on le prétend ? Quels impacts le changement climatique a-t-il sur les vignobles belges ? A travers leurs regards de climatologues\, les conférenciers reviendront sur l’histoire de la viticulture en Belgique et exploreront les perspectives d’avenir de cette culture face aux défis climatiques à venir à travers leurs recherches récentes. » \nRendez-vous le 5 février 2026 de 17h00 à 19h00 dans l’Auditoire de l’Ancien Institut d’Anatomie/Institut Supérieur des Langues Vivantes (ISLV). \nTarifs : \n\n2\,50€ pour les membres des Amis de l’ULiège et les seniors de la Ville.\n5€ pour les non membres.\nGratuit pour les étudiants de – 25 ans et les demandeurs d’emploi.
URL:https://poledesconferences.be/event/la-viticulture-en-belgique-boostee-par-le-rechauffement-climatique/
LOCATION:Auditoire de l’Ancien Institut d’Anatomie / ISLV\, Rue de Pitteurs 20\, Liège\, Liège\, 4020\, Belgium
CATEGORIES:Environnement et transition
ATTACH;FMTTYPE=image/png:https://poledesconferences.be/wp-content/uploads/2025/10/th-1024x0-vitculture_pixabay.jpg.png.png
END:VEVENT
BEGIN:VEVENT
DTSTART;TZID=UTC:20260212T170000
DTEND;TZID=UTC:20260212T190000
DTSTAMP:20260420T165407
CREATED:20251030T105909Z
LAST-MODIFIED:20251030T105909Z
UID:10000072-1770915600-1770922800@poledesconferences.be
SUMMARY:Sols et climats : des alliés méconnus face au réchauffement climatique
DESCRIPTION:« On parle souvent des impacts des changements climatiques sur nos écosystèmes\, mais trop peu du rôle essentiel que jouent les sols dans l’atténuation et l’adaptation à ces bouleversements. Par leurs usages\, leur fertilité\, ils peuvent stocker du carbone mais aussi impacter fortement le cycle hydrologique : autant de leviers sous-exploités qui pourraient faire des sols nos meilleurs alliés. Cette conférence explorera les interactions entre sol\, hydrologie et climat et mettra en lumière les solutions concrètes pour renforcer notre résilience face au défi climatique. » \nRendez-vous le 12 février 2026 de 17h00 à 19h00 dans l’Auditoire de l’Ancien Institut d’Anatomie/Institut Supérieur des Langues Vivantes (ISLV). \nTarifs : \n\n2\,50€ pour les membres des Amis de l’ULiège et les seniors de la Ville.\n5€ pour les non membres.\nGratuit pour les étudiants de – 25 ans et les demandeurs d’emploi.
URL:https://poledesconferences.be/event/sols-et-climats-des-allies-meconnus-face-au-rechauffement-climatique/
LOCATION:Auditoire de l’Ancien Institut d’Anatomie / ISLV\, Rue de Pitteurs 20\, Liège\, Liège\, 4020\, Belgium
CATEGORIES:Environnement et transition
ATTACH;FMTTYPE=image/png:https://poledesconferences.be/wp-content/uploads/2025/10/th-1024x0-sols_pixabay.jpg.png.png
END:VEVENT
END:VCALENDAR