BEGIN:VCALENDAR
VERSION:2.0
PRODID:-//Pôle des conférences - ECPv6.15.20//NONSGML v1.0//EN
CALSCALE:GREGORIAN
METHOD:PUBLISH
X-ORIGINAL-URL:https://poledesconferences.be
X-WR-CALDESC:Évènements pour Pôle des conférences
REFRESH-INTERVAL;VALUE=DURATION:PT1H
X-Robots-Tag:noindex
X-PUBLISHED-TTL:PT1H
BEGIN:VTIMEZONE
TZID:UTC
BEGIN:STANDARD
TZOFFSETFROM:+0000
TZOFFSETTO:+0000
TZNAME:UTC
DTSTART:20240101T000000
END:STANDARD
END:VTIMEZONE
BEGIN:VEVENT
DTSTART;TZID=UTC:20260324T120000
DTEND;TZID=UTC:20260324T140000
DTSTAMP:20260421T005604
CREATED:20260108T135749Z
LAST-MODIFIED:20260108T135749Z
UID:10000126-1774353600-1774360800@poledesconferences.be
SUMMARY:Mutualiser les talents : quels modèles pour renforcer la coopération entre organisations ?
DESCRIPTION:« Dans un contexte où les organisations font face à des besoins de compétences de plus en plus variés et parfois difficiles à recruter\, la mutualisation des ressources humaines ouvre des perspectives. \nPourquoi repenser nos façons de travailler ensemble ? Comment imaginer des dispositifs qui permettent à la fois de sécuriser l’emploi\, de partager l’expertise et de soutenir les missions des structures ? Quels sont les avantages et les limites de ces modèles ? \nCette conférence propose d’explorer ces questions en mettant en lumière différents modèles de groupements d’employeur·euses et leurs logiques respectives\, sur base d’exemples concrets\, confrontés au regard de la recherche. \nCette conférence offrira un regard pluriel sur la manière de renforcer la coopération des ressources humaines au service de projets. » \nOrateurs : \n\nFrédéric NAEDENOEN\, chargé de cours (HEC Liège\, LENTIC\, ULiège).\nSandrine BARRE\, administratrice déléguée (Terre Emploi).\nWendy FOHN\, directrice (Basic+).\n\nRendez-vous le 24 mars 2026 de 12h00 à 14h00 chez RISE – Liège Science Park. \nTarifs : \n\n38€\n30€ pour les étudiants et pour le personnel des universités et hautes écoles.\n\nLunch inclus.
URL:https://poledesconferences.be/event/mutualiser-les-talents-quels-modeles-pour-renforcer-la-cooperation-entre-organisations/
LOCATION:RISE – Liège Science Park\, Avenue Pré Aily 4\, Angleur\, Liège\, 4031\, Belgium
CATEGORIES:Emploi et management
ATTACH;FMTTYPE=image/jpeg:https://poledesconferences.be/wp-content/uploads/2026/01/getty-images-SHJYMYUGSNY-unsplash-scaled.jpg
END:VEVENT
BEGIN:VEVENT
DTSTART;TZID=UTC:20251118T120000
DTEND;TZID=UTC:20251118T140000
DTSTAMP:20260421T005604
CREATED:20251105T083800Z
LAST-MODIFIED:20251105T083800Z
UID:10000098-1763467200-1763474400@poledesconferences.be
SUMMARY:Transmettre son entreprise à la jeune génération : témoignages inspirants de jeunes repreneurs
DESCRIPTION:« Reprendre et développer : regards croisés de jeunes repreneurs. \nQuatre jeunes dirigeants partageront leur parcours de reprise d’entreprise\, chacun dans un contexte différent : Charline et Emilie Despriet\, en route pour reprendre les rênes de la société familiale et déjà actives dans des acquisitions\, Flore Marechal\, qui a mené le management buy-out de TMS Worldwide après en avoir été CFO\, Basile Pirlot\, entrepreneur passionné ayant repris seul une société régionale pour la moderniser. Des histoires variées mais une même finalité : reprendre le flambeau et développer une entreprise avec vision et énergie. \nDe plus\, à l’issue de la conférence\, un moment de rencontre entre jeunes entrepreneurs et dirigeants d’entreprise sera organisé afin de favoriser les échanges et initier les reprises de demain. » \nRendez-vous le 18 novembre 2025 de 12h00 à 14h00 à HEC Liège.
URL:https://poledesconferences.be/event/transmettre-son-entreprise-a-la-jeune-generation-temoignages-inspirants-de-jeunes-repreneurs/
LOCATION:HEC Liège\, Rue Louvrex 14\, Liège\, Liège\, 4000\, Belgium
CATEGORIES:Emploi et management
END:VEVENT
BEGIN:VEVENT
DTSTART;TZID=UTC:20251107T120000
DTEND;TZID=UTC:20251107T140000
DTSTAMP:20260421T005604
CREATED:20251014T092445Z
LAST-MODIFIED:20251014T092532Z
UID:10000026-1762516800-1762524000@poledesconferences.be
SUMMARY:Actionnariat salarié : regards croisés
DESCRIPTION:« Dans un contexte économique en mutation\, l’actionnariat salarié suscite un intérêt croissant. Entre engagement collaboratif\, fidélisation de talents et transmission d’entreprise\, ce mécanisme soulève de nombreuses questions juridiques\, managériales et entrepreneuriales ». \nOrateurs : \n\nRoman Aydogdu\, Chargé de Cours (Faculté de Droit\, de Science Politique et de Criminologie\, Dpt de Droit\, ULiège)\nSabine Colson\, Senior Investment Manager Expert MBO (Wallonie Entreprendre)\nLuc Demortier\, Directeur Pôle Bâtiments (Bureau Greisch)\nCéline Kips\, CEO (Accent Languages)\n\nObjectif de développement durable : \n \nRendez-vous le 07 novembre de 12h00 à 14h00 chez RISE – Liège Science Park. \nLunch inclus. \nTarif réduit applicable pour les étudiants et le personnel des universités et hautes écoles : 30€. \nTarif normal : 38€.
URL:https://poledesconferences.be/event/actionnariat-salarie-regards-croises/
LOCATION:RISE – Liège Science Park\, Avenue Pré Aily 4\, Angleur\, Liège\, 4031\, Belgium
CATEGORIES:Emploi et management,Société et sciences humaines
ATTACH;FMTTYPE=image/jpeg:https://poledesconferences.be/wp-content/uploads/2025/10/Actionnariat-salarie.jpeg
END:VEVENT
END:VCALENDAR