BEGIN:VCALENDAR
VERSION:2.0
PRODID:-//Pôle des conférences - ECPv6.15.20//NONSGML v1.0//EN
CALSCALE:GREGORIAN
METHOD:PUBLISH
X-WR-CALNAME:Pôle des conférences
X-ORIGINAL-URL:https://poledesconferences.be
X-WR-CALDESC:Évènements pour Pôle des conférences
REFRESH-INTERVAL;VALUE=DURATION:PT1H
X-Robots-Tag:noindex
X-PUBLISHED-TTL:PT1H
BEGIN:VTIMEZONE
TZID:UTC
BEGIN:STANDARD
TZOFFSETFROM:+0000
TZOFFSETTO:+0000
TZNAME:UTC
DTSTART:20240101T000000
END:STANDARD
END:VTIMEZONE
BEGIN:VEVENT
DTSTART;TZID=UTC:20260324T170000
DTEND;TZID=UTC:20260324T190000
DTSTAMP:20260420T170319
CREATED:20251031T095054Z
LAST-MODIFIED:20251031T095054Z
UID:10000083-1774371600-1774378800@poledesconferences.be
SUMMARY:Le conflit israélo-palestinien\, une guerre sans fin ?
DESCRIPTION:Résumé à venir. \nRendez-vous le 24 mars 2026 de 17h00 à 19h00 dans l’Auditoire de l’Ancien Institut d’Anatomie/Institut Supérieur des Langues Vivantes (ISLV). \nTarifs : \n\n2\,50€ pour les membres des Amis de l’ULiège et les seniors de la Ville.\n5€ pour les non membres.\nGratuit pour les étudiants de – 25 ans et les demandeurs d’emploi.
URL:https://poledesconferences.be/event/le-conflit-israelo-palestinien-une-guerre-sans-fin/
LOCATION:Auditoire de l’Ancien Institut d’Anatomie / ISLV\, Rue de Pitteurs 20\, Liège\, Liège\, 4020\, Belgium
CATEGORIES:Economie et politique,Société et sciences humaines
ATTACH;FMTTYPE=image/png:https://poledesconferences.be/wp-content/uploads/2025/10/th-1024x0-israel_palestine.jpg1_.png.png
END:VEVENT
BEGIN:VEVENT
DTSTART;TZID=UTC:20260319T170000
DTEND;TZID=UTC:20260319T190000
DTSTAMP:20260420T170319
CREATED:20251031T094806Z
LAST-MODIFIED:20251031T094806Z
UID:10000082-1773939600-1773946800@poledesconferences.be
SUMMARY:Climat et populisme : une vérité qui dérange\, des mensonges qui arrangent
DESCRIPTION:« Les partis populistes entretiennent un rapport complexe à la science\, entre instrumentalisation\, défiance et rejet. La question climatique en est un exemple frappant : face aux faits scientifiques\, ces mouvements privilégient les émotions\, les discours alternatifs et les fake news pour mobiliser leur électorat. Cette conférence analysera les stratégies de désinformation\, les tensions entre vérité et perception\, ainsi que les moyens de contrer ces narratifs\, entre contre-discours et discours alternatifs. » \nRendez-vous le 19 mars 2026 de 17h00 à 19h00 dans l’Auditoire de l’Ancien Institut d’Anatomie/Institut Supérieur des Langues Vivantes (ISLV). \nTarifs : \n\n2\,50€ pour les membres des Amis de l’ULiège et les seniors de la Ville.\n5€ pour les non membres.\nGratuit pour les étudiants de – 25 ans et les demandeurs d’emploi.
URL:https://poledesconferences.be/event/climat-et-populisme-une-verite-qui-derange-des-mensonges-qui-arrangent/
LOCATION:Auditoire de l’Ancien Institut d’Anatomie / ISLV\, Rue de Pitteurs 20\, Liège\, Liège\, 4020\, Belgium
CATEGORIES:Economie et politique,Environnement et transition
ATTACH;FMTTYPE=image/png:https://poledesconferences.be/wp-content/uploads/2025/10/th-1024x0-populisme_et_climat_pixabay.jpg1_.png.png
END:VEVENT
BEGIN:VEVENT
DTSTART;TZID=UTC:20260317T170000
DTEND;TZID=UTC:20260317T190000
DTSTAMP:20260420T170319
CREATED:20251031T093956Z
LAST-MODIFIED:20251031T093956Z
UID:10000081-1773766800-1773774000@poledesconferences.be
SUMMARY:Une histoire internationale des droits de l'Homme\, depuis leurs origines historiques antiques jusqu'à nos jours
DESCRIPTION:Résumé à venir. \nRendez-vous le 17 mars 2026 de 17h00 à 19h00 au Grand Physique à Liège. \nTarifs : \n\n2\,50€ pour les membres des Amis de l’ULiège et les seniors de la Ville.\n5€ pour les non membres.\nGratuit pour les étudiants de – 25 ans et les demandeurs d’emploi.
URL:https://poledesconferences.be/event/une-histoire-internationale-des-droits-de-lhomme-depuis-leurs-origines-historiques-antiques-jusqua-nos-jours/
LOCATION:Grand Physique\, Place du XX Août 7\, Liège\, Liège\, 4000\, Belgium
CATEGORIES:Economie et politique,Histoire et culture
ATTACH;FMTTYPE=image/png:https://poledesconferences.be/wp-content/uploads/2025/10/th-1024x0-droits_de_lhomme_canva.jpg.png.png
END:VEVENT
BEGIN:VEVENT
DTSTART;TZID=UTC:20260310T170000
DTEND;TZID=UTC:20260310T190000
DTSTAMP:20260420T170319
CREATED:20251031T092032Z
LAST-MODIFIED:20251031T092032Z
UID:10000078-1773162000-1773169200@poledesconferences.be
SUMMARY:Histoire des relations internationales (1919-1939)
DESCRIPTION:Résumé à venir. \nRendez-vous le 10 mars 2026 de 17h00 à 19h00 dans l’Auditoire de l’Ancien Institut d’Anatomie/Institut Supérieur des Langues Vivantes (ISLV). \nTarifs : \n\n2\,50€ pour les membres des Amis de l’ULiège et les seniors et la Ville.\n5€ pour les non membres.\nGratuit pour les étudiants de – 25 ans et les demandeurs d’emploi.
URL:https://poledesconferences.be/event/histoire-des-relations-internationales-1919-1939/
LOCATION:Auditoire de l’Ancien Institut d’Anatomie / ISLV\, Rue de Pitteurs 20\, Liège\, Liège\, 4020\, Belgium
CATEGORIES:Economie et politique,Histoire et culture
ATTACH;FMTTYPE=image/png:https://poledesconferences.be/wp-content/uploads/2025/10/th-1024x0-histoire_des_relations_inter_canva_redim.jpg_2025-07-17_16-57-33_416.png.png
END:VEVENT
BEGIN:VEVENT
DTSTART;TZID=UTC:20260310T120000
DTEND;TZID=UTC:20260310T140000
DTSTAMP:20260420T170319
CREATED:20260108T105255Z
LAST-MODIFIED:20260119T090001Z
UID:10000121-1773144000-1773151200@poledesconferences.be
SUMMARY:Les industries culturelles et créatives comme levier de développement économique
DESCRIPTION:« Comment la création artistique influence-t-elle la dynamique économique d’une région ? Nous serons au cœur du B3\, le centre de ressources et de créativité de la Province de Liège\, pour explorer la création artistique comme moteur de développement économique. Le secteur de l’audiovisuel est aujourd’hui florissant à Liège\, porté par des studios d’animation dont l’exigence technique repose sur une qualité de travail reconnue […]. » \nOrateurs : \n\nMarjorie RANIERI\, chercheuse en Art Urbain (UNIC\, ULiège).\nJean-François TEFNIN\, directeur (Wallimage Tournages)\nRaphaëlle PELLE\, illustratrice indépendante.\n\nRendez-vous le 10 mars 2026 de 12h00 à 14h00 au B3 – Centre de Ressources de la Province de Liège. \nTarifs : \n\n38€\n30€ pour les étudiants et pour le personnel des universités et hautes écoles.\n\nLunch inclus. \nObjectifs de développement durable :
URL:https://poledesconferences.be/event/les-industries-culturelles-et-creatives-comme-levier-de-developpement-economique/
LOCATION:Centre de Ressources du B3\, Place des Arts\, Liège\, Liège\, 4020\, Belgium
CATEGORIES:Art et Culture,Economie et politique
ATTACH;FMTTYPE=image/jpeg:https://poledesconferences.be/wp-content/uploads/2026/01/823d6f33-98d0-4d5d-a64c-310b81fe990b.jpeg
END:VEVENT
BEGIN:VEVENT
DTSTART;TZID=UTC:20260303T170000
DTEND;TZID=UTC:20260303T190000
DTSTAMP:20260420T170319
CREATED:20251031T090844Z
LAST-MODIFIED:20251031T090844Z
UID:10000076-1772557200-1772564400@poledesconferences.be
SUMMARY:Du système des alliances au multilatéralisme (1880 - 1920)
DESCRIPTION:Résumé à venir. \nRendez-vous le 3 mars 2026 de 17h00 à 19h00 dans l’Auditoire de l’Ancien Institut d’Anatomie/Institut Supérieur des Langues Vivantes (ISLV). \nTarifs : \n\n2\,50€ pour les membres des Amis de l’ULiège et les seniors de la Ville.\n5€ pour les non membres.\nGratuit pour les étudiants et les demandeurs d’emploi.
URL:https://poledesconferences.be/event/du-systeme-des-alliances-au-multilateralisme-1880-1920/
LOCATION:Auditoire de l’Ancien Institut d’Anatomie / ISLV\, Rue de Pitteurs 20\, Liège\, Liège\, 4020\, Belgium
CATEGORIES:Economie et politique,Histoire et culture
ATTACH;FMTTYPE=image/png:https://poledesconferences.be/wp-content/uploads/2025/10/th-1024x0-multilateralisme__pexels.jpg.png.png
END:VEVENT
BEGIN:VEVENT
DTSTART;TZID=UTC:20260205T184500
DTEND;TZID=UTC:20260205T203000
DTSTAMP:20260420T170319
CREATED:20260204T090034Z
LAST-MODIFIED:20260204T090034Z
UID:10000140-1770317100-1770323400@poledesconferences.be
SUMMARY:Frédéric Bernard : de l'ULiège au Capitole\, parcours d'un historien devenu ambassadeur
DESCRIPTION:« Diplômé en histoire de la Faculté de Philosophie et Lettres de l’Université de Liège en 2003\, Frédéric Bernard incarne un parcours professionnel hors du commun. Aujourd’hui Ambassadeur de Belgique aux Etats-Unis\, il revient le jeudi 5 février 2026 à l’ULiège pour une rencontre privilégiée avec les étudiant.es\, à l’invitation de sa Faculté. » \nRendez-vous le 5 février 2026 à 18h45 à l’Amphithéâtre Wilmotte\, au Campus du centre-ville – Zone 20 Août. \nGratuit\, sur inscription.
URL:https://poledesconferences.be/event/frederic-bernard-de-luliege-au-capitole-parcours-dun-historien-devenu-ambassadeur/
LOCATION:Amphithéâtre Wilmotte – Campus du Centre Ville – 20 Août\, Place Cockerill 1\, Liège\, Liège\, 4000\, Belgium
CATEGORIES:Economie et politique,Société et sciences humaines
ATTACH;FMTTYPE=image/jpeg:https://poledesconferences.be/wp-content/uploads/2026/02/th-1024x0-2026-02-17-ambassadeur-usa.jpg.jpg
END:VEVENT
BEGIN:VEVENT
DTSTART;TZID=UTC:20260205T120000
DTEND;TZID=UTC:20260205T140000
DTSTAMP:20260420T170319
CREATED:20260108T100433Z
LAST-MODIFIED:20260108T100433Z
UID:10000117-1770292800-1770300000@poledesconferences.be
SUMMARY:Technologies immersives : quels impacts sur l'expérience des utilisateur·trices ?
DESCRIPTION:« Les technologies immersives proposent de nouvelles façons de percevoir et d’expérimenter le monde. Ces dispositifs intégrant la réalité virtuelle\, augmentée\, mixte… créent des expériences simulées perçues comme étonnamment réelles\, ouvrant de nouvelles possibilités de résultats. \nQuels sont les impacts réels des technologies immersives sur l’expérience des utilisateur·trices ? Comment ces outils deviennent-ils de véritables leviers au service d’objectifs commerciaux\, culturels ou pédagogiques ? \nLors de cette rencontre-conférence\, nous explorerons la diversité des usages de ces technologies\, à travers une approche croisée et pluridisciplinaire\, et des projets concrets tels qu’un projet visant à créer 200 avatars historiques pour célébrer les 200 ans de la Belgique en 2030\, des expériences en réalité virtuelle au sein d’un grand monument historique français et d’une grande enseigne commercial ou encore les jumeaux numériques à l’Aéroport de Liège. \nAussi\, un focus sera mis sur le résultat de projets de recherche ayant analysé les impacts concrets de ces dispositifs sur leurs utilisateur·trices\, ouvrant un espace de réflexion collective sur leurs enjeux sociétaux. » \nOrateurs : \n\nMichaël SCHYNS\, professeur ordinaire (HEC Liège\, Research\, Business Analytics & Supply Chain\, ULiège)\nLaurence DESSART\, professeure (HEC Liège\, Research\, Strategic Marketing Innovation\, ULiège)\nAlain GALLEZ\, fondateur (Stereopsia Europe)\n\nRendez-vous le 5 février 2026 de 12h00 à 14h00 au Val Benoît – Batîment du Génie Civil – Salle Kintaikyo. \nTarifs : \n\n38€\n30€ pour les étudiants et le personnel des universités et hautes écoles.\n\nLunch inclus. \nCette conférence est hébergée au Val Benoît dans le cadre de notre partenariat avec SPI. \n \n 
URL:https://poledesconferences.be/event/technologies-immersives-quels-impacts-sur-lexperience-des-utilisateur%c2%b7trices/
LOCATION:Val Benoît – Génie Civil\, Quai Banning 6\, Liège\, Liège\, 4000\, Belgium
CATEGORIES:Economie et politique,Sciences et technologies
ATTACH;FMTTYPE=image/jpeg:https://poledesconferences.be/wp-content/uploads/2026/01/stephanie-berbec-XzFnQVbKFQ4-unsplash.jpg
END:VEVENT
BEGIN:VEVENT
DTSTART;TZID=UTC:20260203T170000
DTEND;TZID=UTC:20260203T190000
DTSTAMP:20260420T170319
CREATED:20251030T102723Z
LAST-MODIFIED:20251030T102723Z
UID:10000068-1770138000-1770145200@poledesconferences.be
SUMMARY:Vers une internationalisation de l'extrême droite ? Acteurs\, réseaux et stratégies
DESCRIPTION:Résumé à venir. \nRendez-vous le 3 février 2026 de 17h00 à 19h00 dans l’Auditoire de l’Ancien Institut d’Anatomie/Institut Supérieur des Langues Vivantes (ISLV). \nTarifs : \n\n2\,50€ pour les membres des Amis de l’ULiège et les seniors de la Ville.\n5€ pour les non membres.\nGratuit pour les étudiants de – 25 ans et les demandeurs d’emploi.
URL:https://poledesconferences.be/event/vers-une-internationalisation-de-lextreme-droite-acteurs-reseaux-et-strategies/
LOCATION:Auditoire de l’Ancien Institut d’Anatomie / ISLV\, Rue de Pitteurs 20\, Liège\, Liège\, 4020\, Belgium
CATEGORIES:Economie et politique,Société et sciences humaines
ATTACH;FMTTYPE=image/png:https://poledesconferences.be/wp-content/uploads/2025/10/th-1024x0-internationalisation_extreme_droite.jpg.png.png
END:VEVENT
BEGIN:VEVENT
DTSTART;TZID=UTC:20260127T170000
DTEND;TZID=UTC:20260127T190000
DTSTAMP:20260420T170319
CREATED:20251030T102009Z
LAST-MODIFIED:20251030T102009Z
UID:10000066-1769533200-1769540400@poledesconferences.be
SUMMARY:Les intelligences artificielles au cœur des rapports de puissance sino-américains
DESCRIPTION:Résumé à venif. \nRendez-vous le 27 janvier 2026 de 17h00 à 19h00 dans l’Auditoire de l’Ancien Institut d’Anatomie/Institut Supérieur des Langues Vivantes (ISLV). \nTarifs : \n\n2\,50€ pour les membres des Amis de l’ULiège et les seniors de la Ville.\n5€ pour les non membres.\nGratuit pour les étudiants de – 25 ans et les demandeurs d’emploi.
URL:https://poledesconferences.be/event/les-intelligences-artificielles-au-coeur-des-rapports-de-puissance-sino-americains/
LOCATION:Auditoire de l’Ancien Institut d’Anatomie / ISLV\, Rue de Pitteurs 20\, Liège\, Liège\, 4020\, Belgium
CATEGORIES:Economie et politique,Intelligence artificielle
ATTACH;FMTTYPE=image/png:https://poledesconferences.be/wp-content/uploads/2025/10/th-1024x0-chine_amerique.jpg.png.png
END:VEVENT
BEGIN:VEVENT
DTSTART;TZID=UTC:20260113T170000
DTEND;TZID=UTC:20260113T190000
DTSTAMP:20260420T170319
CREATED:20251030T094644Z
LAST-MODIFIED:20251030T094644Z
UID:10000061-1768323600-1768330800@poledesconferences.be
SUMMARY:La santé économique de l'Union européenne et de ses Etats membres à l'heure des incertitudes
DESCRIPTION:Résumé à venir. \nRendez-vous le 13 janvier 2026 de 17h00 à 19h00 dans l’Auditoire de l’Ancien Institut d’Anatomie/Institut Supérieur des Langues Vivantes (ISLV). \nTarifs : \n\n2\,50€ pour les membres des Amis de l’ULiège et les seniors de la Ville.\n5€ pour les non membres.\nGratuit pour les étudiants de – 25 ans et les demandeurs d’emploi.
URL:https://poledesconferences.be/event/la-sante-economique-de-lunion-europeenne-et-de-ses-etats-membres-a-lheure-des-incertitudes/
LOCATION:Auditoire de l’Ancien Institut d’Anatomie / ISLV\, Rue de Pitteurs 20\, Liège\, Liège\, 4020\, Belgium
CATEGORIES:Economie et politique
ATTACH;FMTTYPE=image/jpeg:https://poledesconferences.be/wp-content/uploads/2025/10/th-1024x0-union_europeenne_economie_pexels.jpg.jpg
END:VEVENT
BEGIN:VEVENT
DTSTART;TZID=UTC:20251203T193000
DTEND;TZID=UTC:20251203T210000
DTSTAMP:20260420T170319
CREATED:20251125T080655Z
LAST-MODIFIED:20251125T080655Z
UID:10000111-1764790200-1764795600@poledesconferences.be
SUMMARY:Conférence-débat : les Etats-Unis à l'ère du techno-fascisme
DESCRIPTION:« Dix ans après l’irruption de Donald Trump\, la politique américaine est marquée par une imbrication sans précédent entre pouvoir politique\, médias et technologie. Le trumpisme\, loin d’être une parenthèse populiste\, s’est transformé en idéologie durable\, tandis qu’une révolution numérique autoritaire émerge dans la Sillicon Valley\, portée par des figures technologiques en rupture avec les institutions démocratiques. Les trajectoires de Trump et d’Elon Musk se rejoignent ainsi dans une fusion entre capitalisme de plateforme et populisme numérique\, où la maîtrise des algorithmes devient un instrument central de pouvoir. » \nRendez-vous le 3 décembre 2025 à 19h30 dans la Salle Académique de l’Université de Liège. \nGratuit\, inscription obligatoire.
URL:https://poledesconferences.be/event/conference-debat-les-etats-unis-a-lere-du-techno-fascisme/
LOCATION:Salle Académique de l’Université de Liège\, Place du XX août 7\, Liège\, Liège\, 4000\, Belgium
CATEGORIES:Economie et politique
ATTACH;FMTTYPE=image/jpeg:https://poledesconferences.be/wp-content/uploads/2025/11/th-1024x0-president_trump_at_the_u.s._military_academy_graduation_50008558018.jpg.jpg
END:VEVENT
BEGIN:VEVENT
DTSTART;TZID=UTC:20251114T093000
DTEND;TZID=UTC:20251114T123000
DTSTAMP:20260420T170319
CREATED:20251105T082416Z
LAST-MODIFIED:20251105T082416Z
UID:10000096-1763112600-1763123400@poledesconferences.be
SUMMARY:Comment penser les migrations de demain : le futur des politiques de gouvernance ?
DESCRIPTION:Un cycle de cinq conférences autour des enjeux migratoires de demain est organisé d’octobre à décembre à l’initiative des 8 Centres Régionaux pour l’Intégration de Wallonie en partenariat avec plusieurs universités\, dont l’ULiège. \n« Apports des migrations pour les pays d’accueil\, politiques de gouvernance et avenir des politiques d’asile. Cette demi-journée vise à mettre en lumière les apports positifs des migrations pour les sociétés d’accueil\, et à débattre de nouvelles formes de gouvernance migratoire et d’asile plus adaptées aux enjeux globaux des migrations transnationales et davantage respectueuses des droits humains. Etant entendu que les politiques migratoires actuelles\, nationales et européennes\, envisagées à court terme\, sont largement inadaptées et inadéquates. » \nRendez-vous le 14 novembre 2025 de 9h30 à 12h30 dans la Salle des Professeurs de l’Université de Liège/Centre-Ville.
URL:https://poledesconferences.be/event/comment-penser-les-migrations-de-demain-le-futur-des-politiques-de-gouvernance/
LOCATION:Salle des Professeurs de l’Université de Liège\, Place du XX août 7\, Liège\, Liège\, 4000\, Belgium
CATEGORIES:Economie et politique,Société et sciences humaines
ATTACH;FMTTYPE=image/png:https://poledesconferences.be/wp-content/uploads/2025/11/th-1024x0-image-illustration-colloque.png.png
END:VEVENT
END:VCALENDAR