BEGIN:VCALENDAR
VERSION:2.0
PRODID:-//Pôle des conférences - ECPv6.15.20//NONSGML v1.0//EN
CALSCALE:GREGORIAN
METHOD:PUBLISH
X-WR-CALNAME:Pôle des conférences
X-ORIGINAL-URL:https://poledesconferences.be
X-WR-CALDESC:Évènements pour Pôle des conférences
REFRESH-INTERVAL;VALUE=DURATION:PT1H
X-Robots-Tag:noindex
X-PUBLISHED-TTL:PT1H
BEGIN:VTIMEZONE
TZID:UTC
BEGIN:STANDARD
TZOFFSETFROM:+0000
TZOFFSETTO:+0000
TZNAME:UTC
DTSTART:20250101T000000
END:STANDARD
END:VTIMEZONE
BEGIN:VEVENT
DTSTART;TZID=UTC:20260331T183000
DTEND;TZID=UTC:20260331T203000
DTSTAMP:20260420T151921
CREATED:20260304T100024Z
LAST-MODIFIED:20260304T100024Z
UID:10000150-1774981800-1774989000@poledesconferences.be
SUMMARY:"Ecrire en terre bâtarde" de Monique Séverin
DESCRIPTION:« Née à l’ïle de la Réunion\, Monique Séverein écrit essentiellement sur son univers originel. Dans son recueil de nouvelles Némésis et autres humeurs noires\, elle explore les tensions qui traversent l’île. En 2022\, avec La peine de l’eau ou Sisyphe l’Africaine\, elle s’interroge sur la matrice océanique à l’origine du monde complexe qu’est La Réunion. Cette complexité se retrouve également dans son roman La Bâtarde du Rhin\, qui traite aussi de la place de la femme\, des lignées familiales et des héritages tragiques à guérir\, avec l’eugénisme et l’esclavage en toile de fond […]. \nRendez-vous le 31 mars 2026 à 18h30 dans la Salle Académique de l’Université de Liège \nGratuit\, sur inscription.
URL:https://poledesconferences.be/event/ecrire-en-terre-batarde-de-monique-severin/
LOCATION:Salle Académique de l’Université de Liège\, Place du XX août 7\, Liège\, Liège\, 4000\, Belgium
CATEGORIES:Art et Culture,Société et sciences humaines
ATTACH;FMTTYPE=image/jpeg:https://poledesconferences.be/wp-content/uploads/2026/03/th-1024x0-chaire_francophonies.jpg.jpg
END:VEVENT
END:VCALENDAR